BEGIN:VCALENDAR
VERSION:2.0
PRODID:-//Agenda Bulle//https://agendabulle.fr//
BEGIN:VEVENT
SUMMARY:Permanence droit du travail (gratuit\, anonyme\, confidentiel\, po
 ur tout type de travail)
DTSTART;TZID=Europe/Paris:20260514T180000
DTEND;TZID=Europe/Paris:20260514T200000
DTSTAMP:20260424T092016Z
UID:acdb56c6c91be60383b0c3a61393d8f8@agendabulle.fr
DESCRIPTION:Tu galères avec ton employeur ou ton employeuse ? Tu vis une 
 situation de harcèlement au travail ? Tu as des questions sur tes conditi
 ons de travail\, ton contrat de travail ? Viens en discuter et trouver des
  solutions !\n\nL' Union syndicale Solidaires Isère organise des permanen
 ces de droit du travail gratuites\, anonymes\, confidentielles\, sans rend
 ez-vous\, pour tous les secteurs d'activités.\n\nPlus d'infos au 06 56 86
  79 93\nhttps://www.agendabulle.fr/event/2026/5/14/2538-permanence-droit-d
 u-travail-gratuit-anonyme-confidentiel-pour-tout-type-de-travail\nhttps://
 www.le-tamis.info/evenement/permanence-droit-du-travail-gratuit-anonyme-co
 nfid
LOCATION:Syndicat Solidaires\, 3 rue Federico Garcia Lorca\, Grenoble
NAME:Permanence droit du travail (gratuit\, anonyme\, confidentiel\, pour 
 tout type de travail)
END:VEVENT
BEGIN:VEVENT
SUMMARY:Permanence Solidaires secteur privé
DTSTART;TZID=Europe/Paris:20260514T180000
DTEND;TZID=Europe/Paris:20260514T200000
DTSTAMP:20260424T092017Z
UID:364a0a28d79e372e9ae06477929e5ebc@agendabulle.fr
DESCRIPTION:Permanence tous les 2e jeudi du mois de 18h à 20h pour les sa
 larié-e-s du secteur privé dans les locaux de Solidaires 38 au 3 rue Fed
 erico Garcia Lorca à Grenoble (proche de l’arrêt du tram A – MC2). S
 onnez à l'interphone en bas et montez au 2e étage. Attention : locaux no
 n accessibles PMR.\n\nContact : permanence.solidaires38@gresille.org\nhttp
 s://www.agendabulle.fr/event/2026/5/14/2540-permanence-solidaires-secteur-
 prive\nhttps://www.le-tamis.info/evenement/permanence-solidaires-secteur-p
 rive
LOCATION:Syndicat Solidaires\, 3 rue Federico Garcia Lorca\, Grenoble
NAME:Permanence Solidaires secteur privé
END:VEVENT
END:VCALENDAR
