BEGIN:VCALENDAR
VERSION:2.0
PRODID:-//Agenda Bulle//https://agendabulle.fr//
BEGIN:VEVENT
SUMMARY:Rencontre littéraire à la librairie Gibert
DTSTART;TZID=Europe/Paris:20260425T140000
DTEND;TZID=Europe/Paris:20260425T160000
DTSTAMP:20260423T233232Z
UID:5b8049f615d2c837b5b65997076b32a9@agendabulle.fr
DESCRIPTION:Rencontre littéraire à la librairie Gibert avec le collectif
  d'auteurs la Dream Team. Venez rencontrer les auteurs de la Dream team po
 ur une séance de dédicace de leurs romans. de l'aventure\, de la Dystopi
 e\, du fantastique et de la fantaisie.\nhttps://www.agendabulle.fr/event/2
 026/4/25/2505-rencontre-litteraire-a-la-librairie-gibert\nhttps://www.gren
 oble.fr/agenda/6355/79-rencontre-litteraire-a-la-librairie-gibert.htm
IMAGE;VALUE=URI:https://www.agendabulle.fr/media/329be19e-fb46-42b9-9848-9
 7d59acd3e9f.jpg
LOCATION:Librairie Gibert Joseph\, Cours Berriat\, Grenoble
NAME:Rencontre littéraire à la librairie Gibert
END:VEVENT
END:VCALENDAR
