BEGIN:VCALENDAR
VERSION:2.0
PRODID:-//AgendaBulle//https://agendabulle.fr//
BEGIN:VEVENT
SUMMARY:Conférence-débat sur la Bio-Éthique - tests génétiques
DTSTART;TZID=Europe/Paris:20260422T200000
DTEND;TZID=Europe/Paris:20260422T220000
DTSTAMP:20260422T223650Z
UID:5bab937aa2db6ee79cc298f56edb5c50@agendabulle.fr
DESCRIPTION:Bioéthique Intervenants Professeur Julien Thévenon\, Chef de
  service Génétique Clinique au CHU Grenoble Alpes et Antonin Curioni\, P
 rofesseur en Philosophie – Intervenant en Ethique Médicale\n\nTESTS GÉ
 NÉTIQUES : COMPRENDRE\, QUESTIONNER\, ÉCHANGER Les tests génétiques pr
 ennent de plus en plus de place dans nos vies. Mais au fond\, qu’est-ce 
 que c’est ? À quoi servent-ils ? Et jusqu’où peut-on aller ? Quels e
 spoirs pour la santé ? Quelles limites à poser ? Quels impacts sur notre
  quotidien ? Dans le cadre des États Généraux de la Bioéthique 2026\, 
 cet événement vous propose d’y voir plus clair. Organisé par les élu
 s du Territoire Val de Rhône d’Harmonie Mutuelle et l’Espace de Réfl
 exion Éthique Auvergne-Rhône-Alpes\, ce temps d’échange est ouvert à
  tous. Un débat animé par deux experts : un généticien et un philosoph
 e Un moment pour poser vos questions et partager votre avis À suivre en d
 irect\, à distance Votre avis compte ! Venez comprendre\, réfléchir et 
 participer à ce débat de société.\nhttp://www.agendabulle.fr/event/202
 6/4/22/2429-conference-debat-sur-la-bio-ethique-tests-genetiques\nhttps://
 www.grenoble-tourisme.com/fr/decouvrir/evenements/agenda/detail/conference
 -debat-sur-la-bio-ethique-tests-genetiques-7785266/
IMAGE;VALUE=URI:http://www.agendabulle.fr/media/1dc86af5-7a8f-488e-b2a2-33
 a9930d9613.jpg
LOCATION:Novotel\, 7 Place Robert Schuman\, Grenoble
NAME:Conférence-débat sur la Bio-Éthique - tests génétiques
END:VEVENT
END:VCALENDAR
