BEGIN:VCALENDAR
VERSION:2.0
PRODID:-//AgendaBulle//https://agendabulle.fr//
BEGIN:VEVENT
SUMMARY:Une journée à Versailles
DTSTART;TZID=Europe/Paris:20260424T203000
DTEND;TZID=Europe/Paris:20260424T223000
DTSTAMP:20260422T223652Z
UID:665c3456b4bd0d782f8928312187fc71@agendabulle.fr
DESCRIPTION:Œuvres de compositeurs contemporains de Louis XIV.\n\n"Une jo
 urnée à Versailles" raconte en musique une journée du roi Louis XIV ave
 c des œuvres de Lully\, Rameau\, Marais\, Charpentier\, Mouret\, Delaland
 e...interprétées par l'Ensemble Le Jardin Musical dirigé par Christine 
 Antoine\, et avec la narration de Fabrice Vigne.\nhttp://www.agendabulle.f
 r/event/2026/4/24/2431-une-journee-a-versailles\nhttps://www.grenoble-tour
 isme.com/fr/decouvrir/evenements/agenda/detail/une-journee-a-versailles-77
 71813/
IMAGE;VALUE=URI:http://www.agendabulle.fr/media/b47982f5-8cac-4cf5-aca8-86
 3c1306bc2f.jpg
LOCATION:Église Saint-Martin\, Rue de la Paix\, Seyssins
NAME:Une journée à Versailles
END:VEVENT
END:VCALENDAR
