BEGIN:VCALENDAR
VERSION:2.0
PRODID:-//AgendaBulle//https://agendabulle.fr//
BEGIN:VEVENT
SUMMARY:MARTHE Trans Oriental Jazz
DTSTART;TZID=Europe/Paris:20260423T193000
DTEND;TZID=Europe/Paris:20260423T214000
DTSTAMP:20260422T223948Z
UID:3a5dcf53eda09b7da08dbbd136aa639f@agendabulle.fr
DESCRIPTION:Marthe\, plus qu’un titre d’un groupe \,un "symbole"  que 
 l’on va retrouver tout au long du concert....\nLe Jeudi 23 Avril dès 19
 h\, salle Stendhal.\nUn groupe qui nous présente sont album 2025 Nay Inda
 ba mais pas que\, au travers d’un groove irresistible.\nUn groupe décou
 vert à la Maison de la Musique de Meylan en Sept dernier mais aussi à la
  JAM de Montpellier en Avril....\naccès 19h \,concert 19h30\nTarif 18%\, 
 reduit 12€\nAdhérent du Jazz Club de Grenoble Alpes\, accès libre en f
 onction des places dispo.\nAdhésion Avril mai juin .\nPetite restauration
 .\n\n\nhttp://www.agendabulle.fr/event/2026/4/23/2440-marthe-trans-orienta
 l-jazz\nhttps://www.facebook.com/events/1575610011236999/
IMAGE;VALUE=URI:http://www.agendabulle.fr/media/cdb620f0-5879-4b90-8c0a-60
 73a17d56a4.jpg
LOCATION:Salle Stendhal\, 5 rue Hauquelin\, Grenoble
NAME:MARTHE Trans Oriental Jazz
END:VEVENT
END:VCALENDAR
