BEGIN:VCALENDAR
VERSION:2.0
PRODID:-//AgendaBulle//https://agendabulle.fr//
BEGIN:VEVENT
SUMMARY:matali CRASSET Autrement La Martinière
DTSTART;TZID=Europe/Paris:20260428T190000
DTEND;TZID=Europe/Paris:20260428T203000
DTSTAMP:20260423T031747Z
UID:2eff45e35316d9f9fb0c325ee4b6acdc@agendabulle.fr
DESCRIPTION:La librairie Le Square s'associe à D613 Studiolo\, magasin de
  design\, cabinet de curiosités à Grenoble\, pour recevoir une des voix 
 les plus originales du design contemporain\,matali crasset\, à qui vient 
 d'être consacrée une monographie\, Autrement\, aux éditions La Martini
 ère.\n\n"Le design\, selon matali crasset\, c'est de l'anthropologie appl
 iquée." Son travail commence par un long temps suspendu - arrêter la rou
 tine pour repenser\, en rupture\, la place\, le lien\, les usages. Le desi
 gn qu'elle défend\, n'est dès lors pas tant un pourvoyeur de formes qu'u
 n élan: redonner des scenarii\, transformer nos logiques de vie. Contre l
 'uniformité monochrome\, elle propose ainsi dans la couleur\, une autre f
 açon d'habiter le monde et de répondre à la fragmentation\, provoquée 
 par la crise écologique\, sociale\, politique\, par de nouveaux liens. Au
 trement\, en utopie.\n\nDesigner formée à l'ENSCI\, ayant commencé à t
 ravailler avec Philippe Starck\, matali crasset est aujourd'hui internatio
 nalement reconnue\, avec des réalisations présentes partout dans le mond
 e. Parmi ses publications récentes\, Les terreblements\, la communauté d
 es cratères\, Matrices (aux Presses du Réel) ou une monographie Works\, 
 chez Norma.\n\nEntrée dans la limite des places disponibles\, pensez à v
 enir en avance.\nhttp://www.agendabulle.fr/event/2026/4/28/2445-matali-cra
 sset-autrement-la-martiniere\nhttps://www.facebook.com/events/926039146896
 493/
IMAGE;VALUE=URI:http://www.agendabulle.fr/media/4a979fd9-ddb1-4970-9e41-ef
 772bcd8eec.jpg
LOCATION:Librairie Le Square\, 2 place Docteur Léon Martin\, Grenoble
NAME:matali CRASSET Autrement La Martinière
END:VEVENT
BEGIN:VEVENT
SUMMARY:Philippe FUSARO Solo Tu Sabine Wespieser
DTSTART;TZID=Europe/Paris:20260429T190000
DTEND;TZID=Europe/Paris:20260429T203000
DTSTAMP:20260423T031747Z
UID:7b75e79b83950551782b40af038f1028@agendabulle.fr
DESCRIPTION:Nous recevons Philippe Fusaro pour son dernier roman\, Solo Tu
 \, paru chez Sabine Wespieser.\n\n"Gianni n’en finit plus de traîner sa
  mélancolie au Piper\, ce club mythique et fatigué de Rome avec lequel i
 l a vieilli. Une nouvelle nuit d’ivresse\, il se voit confier\, le temps
  d’un concert\, un jeune enfant par sa mère\, punkette délurée. En re
 merciement\, elle l’invite à venir\, quand il le veut\, se reposer chez
  elle dans les Pouilles… C’est comme si La Grande Bellezza croisait Le
  Déjeuner du 15 août. P. Fusaro retrouve la générosité sincère des c
 omédies italiennes et enchante par sa délicatesse\, son humanité : au b
 out de la nuit\, sous le soleil\, autour d’un plat\, l’amitié éclate
 \, la vraie\, cette élection des dieux. Que cela fait du bien !"\n\nGiann
 i Desmond est apparu dans le précédent roman de Philippe Fusaro\, Nous 
 étions beaux la nuit (La Fosse aux Ours). On mentionnera d’autres roman
 s La Cucina d’Ines chez le même éditeur\, ou Aimer fatigue (L’Olivie
 r). Philippe Fusaro est aussi libraire à Valence.\n\nEntrée dans la limi
 te des places disponibles\, pensez à venir en avance.\nhttp://www.agendab
 ulle.fr/event/2026/4/29/2446-philippe-fusaro-solo-tu-sabine-wespieser\nhtt
 ps://www.facebook.com/events/977187371579798/
IMAGE;VALUE=URI:http://www.agendabulle.fr/media/b13e215c-747e-432b-ade6-5e
 a155346eab.jpg
LOCATION:Librairie Le Square\, 2 place Docteur Léon Martin\, Grenoble
NAME:Philippe FUSARO Solo Tu Sabine Wespieser
END:VEVENT
END:VCALENDAR
