BEGIN:VCALENDAR
VERSION:2.0
PRODID:-//AgendaBulle//https://agendabulle.fr//
BEGIN:VEVENT
SUMMARY:Manifestation du 1er mai pour la Justice sociale et contre l'extr
 ême droite
DTSTART;TZID=Europe/Paris:20260501T100000
DTEND;TZID=Europe/Paris:20260501T120000
DTSTAMP:20260423T031937Z
UID:355893ecfc6d9d91b3b473bc16337207@agendabulle.fr
DESCRIPTION:Ce 1er mai\, mobilisons-nous en masse pour la journée interna
 tionale des travailleurs et des travailleuses\, en réaffirmant les valeur
 s pacifistes du mouvement ouvrier\, notre opposition à la militarisation 
 de nos sociétés\, l'urgence de la justice sociale\, et la lutte contre l
 'extrême droite !\n\nÀ 10h\n\nAu départ de la gare de Grenoble\n\nArriv
 ée vers 12h à l'anneau de vitesse du Parc Paul Mistral\, avec village de
  stands et concert\nhttp://www.agendabulle.fr/event/2026/5/1/2451-manifest
 ation-du-1er-mai-pour-la-justice-sociale-et-contre-lextreme-droite\nhttps:
 //www.le-tamis.info/evenement/manifestation-du-1er-mai-pour-la-justice-soc
 iale-e
LOCATION:Gare de Grenoble\, Place de la Gare\, Grenoble
NAME:Manifestation du 1er mai pour la Justice sociale et contre l'extrême
  droite
END:VEVENT
END:VCALENDAR
