BEGIN:VCALENDAR
VERSION:2.0
PRODID:-//AgendaBulle//https://agendabulle.fr//
BEGIN:VEVENT
SUMMARY:Jeux de rôle : La sécurisation des pratiques numériques
DTSTART;TZID=Europe/Paris:20260428T183000
DTEND;TZID=Europe/Paris:20260428T203000
DTSTAMP:20260423T031938Z
UID:d7ede8e92ce492c67431c353ae0eaf05@agendabulle.fr
DESCRIPTION:Mais comment fonctionne Internet au juste ? Que se passe-t-il 
 derrière un simple envoi de mail ? Comment peuvent être utilisées nos "
 métadonnées" à notre insu ? Ciblage publicitaire et incitation à la su
 rconsommation\, accès à nos données et surveillance de masse en cas de 
 dérive\, tous ces sujets méritent d'être réfléchis que l'on soit acti
 viste engagé⋅e et exposé⋅e ou non. Et enfin quelles sont les méthod
 es et outils qui permettent de nous affranchir des géants du web\, pour n
 e pas les soutenir\, et (re-)gagner en autonomie ?\n\nA l'aide de jeux de 
 rôle\, nous décrypterons le trajet de nos données à travers le réseau
 \, et essaierons d'identifier les zones sensibles. Un atelier instructif\,
  participatif et immersif de 3h pour plonger dans les dessous de l'informa
 tique.\n\nInscriptions sur https://enjeuxcommuns.fr/les-prochains-ateliers
 -en-isere/\n\nDe 18h30 à 21h30\n\nMaison des Etudiants 6 place Pasteur Gr
 enoble\nhttp://www.agendabulle.fr/event/2026/4/28/2453-jeux-de-role-la-sec
 urisation-des-pratiques-numeriques\nhttps://www.le-tamis.info/evenement/je
 ux-de-role-la-securisation-des-pratiques-numeriq
LOCATION:Maison des étudiant·e·s\, 6 place Pasteur Grenoble\, Grenoble
NAME:Jeux de rôle : La sécurisation des pratiques numériques
END:VEVENT
END:VCALENDAR
