BEGIN:VCALENDAR
VERSION:2.0
PRODID:-//AgendaBulle//https://agendabulle.fr//
BEGIN:VEVENT
SUMMARY:Visite street art - Chorier - Saint Bruno
DTSTART;TZID=Europe/Paris:20260503T140000
DTEND;TZID=Europe/Paris:20260503T160000
DTSTAMP:20260422T131244Z
UID:b6350b6274e84126522134d951610913@agendabulle.fr
DESCRIPTION:Nous vous proposons d'explorer le quartier Chorier Saint Bruno
  et ses nombreuses œuvres de street art d’artistes de différents pays.
 \nCe parcours vous permettra de découvrir des oeuvres différentes par ra
 pport au parcours Berriat - Gare.\n\n \n\nL’Association grenobloise Past
 e-Up Festival France (PUFF) propose des visites guidées pour découvrir l
 e street art dans différents quartiers de la Métropole.\n\nL’Associati
 on organise l’un des plus grand festival de collage en France. La premi
 ère édition s’est déroulée les 3\, 4 et 5 octobre 2024 dans les cour
 sives du Minimistan.\n\n Une fresque de collages de 50 mètres a été ré
 alisée grâce au concours de 300 artistes internationaux permettant de pr
 ésenter aux visiteurs une composition graphique de l’art urbain mondial
 .\nhttp://www.agendabulle.fr/event/2026/5/3/2372-visite-street-art-chorier
 -saint-bruno\nhttps://www.helloasso.com/associations/paste-up-festival-fra
 nce/evenements/visite-street-art-chorier-saint-bruno-03-05-2026
LOCATION:Square des Fusillés\, Square des Fusillés\, Grenoble
NAME:Visite street art - Chorier - Saint Bruno
END:VEVENT
END:VCALENDAR
