BEGIN:VCALENDAR
VERSION:2.0
PRODID:-//AgendaBulle//https://agendabulle.fr//
BEGIN:VEVENT
SUMMARY:Permanence du DAL
DTSTART;TZID=Europe/Paris:20260505T173000
DTEND;TZID=Europe/Paris:20260505T193000
DTSTAMP:20260420T131836Z
UID:be54d60360a089e8bb3b224c38f3fce5@agendabulle.fr
DESCRIPTION:Pour continuer le combat des mal-logé.e.s\, locataires\, mena
 cé.e.s d'expulsion et sans logis\, le DAL a mis en place des permanences 
 toutes les semaines pour pouvoir discuter\, s'organiser et trouver ensembl
 e des solutions à nos problèmes.\n\nLe DAL 38 tient plusieurs permanence
 s :\n\nLe DAL 38 organise de nombreuses actions dans l'agglomération gren
 obloise : manifestations\, occupations\, démarches juridiques\, soutien a
 ux personnes précaires et aux réfugié-e-s\, etc.\nhttp://www.agendabull
 e.fr/event/2026/5/5/2300-permanence-du-dal\nhttps://www.le-tamis.info/even
 ement/permanence-du-dal-1
LOCATION:Local du Droit au Logement 38\, 20b avenue Malherbe\, Grenoble
NAME:Permanence du DAL
END:VEVENT
BEGIN:VEVENT
SUMMARY:Permanence du DAL
DTSTART;TZID=Europe/Paris:20260421T173000
DTEND;TZID=Europe/Paris:20260421T193000
DTSTAMP:20260420T131835Z
UID:e6ab88a7ec6a70ea7e78d957a2cd9ad7@agendabulle.fr
DESCRIPTION:Pour continuer le combat des mal-logé.e.s\, locataires\, mena
 cé.e.s d'expulsion et sans logis\, le DAL a mis en place des permanences 
 toutes les semaines pour pouvoir discuter\, s'organiser et trouver ensembl
 e des solutions à nos problèmes.\n\nLe DAL 38 tient plusieurs permanence
 s :\n\nLe DAL 38 organise de nombreuses actions dans l'agglomération gren
 obloise : manifestations\, occupations\, démarches juridiques\, soutien a
 ux personnes précaires et aux réfugié-e-s\, etc.\nhttp://www.agendabull
 e.fr/event/2026/4/21/2299-permanence-du-dal\nhttps://www.le-tamis.info/eve
 nement/permanence-du-dal-1
LOCATION:Local du Droit au Logement 38\, 20b avenue Malherbe\, Grenoble
NAME:Permanence du DAL
END:VEVENT
END:VCALENDAR
