BEGIN:VCALENDAR
VERSION:2.0
PRODID:-//AgendaBulle//https://agendabulle.fr//
BEGIN:VEVENT
SUMMARY:permanence du RUSF 38
DTSTART;TZID=Europe/Paris:20260505T120000
DTEND;TZID=Europe/Paris:20260505T140000
DTSTAMP:20260420T131837Z
UID:ff8b622ef254d698f1ad8ef705af3479@agendabulle.fr
DESCRIPTION:Le Réseau Universités Sans Frontière Isère est ouvert chaq
 ue mardi de 12 à 14h pour ses permanences de soutien aux personnes sans-p
 apiers\, avec des conseils pratiques et juridiques. Les personnes souhaita
 nt rejoindre l'association sont les bienvenues.\n\n06 63 86 57 53\nhttp://
 www.agendabulle.fr/event/2026/5/5/2316-permanence-du-rusf-38\nhttps://www.
 le-tamis.info/evenement/permanence-du-rusf-38
LOCATION:Bureau des étudiant.es étranger.ères\, 51 rue des Mathématiqu
 es 38610 Gières\, Gières
NAME:permanence du RUSF 38
END:VEVENT
END:VCALENDAR
