BEGIN:VCALENDAR
VERSION:2.0
PRODID:-//AgendaBulle//https://agendabulle.fr//
BEGIN:VEVENT
SUMMARY:Ateliers de théâtre sociologique
DTSTART;TZID=Europe/Paris:20260506T200000
DTEND;TZID=Europe/Paris:20260506T220000
DTSTAMP:20260420T131837Z
UID:12ca904723b42a90dd7341fcc357c1b3@agendabulle.fr
DESCRIPTION:Les ateliers de théâtre sociologiques reprennent !\n\nCette 
 année nous avons choisi d'explorer les rapports familiaux (les interactio
 ns\, les idées reçues\, les conflits\, les strates sociales…)\n\nNous 
 vous proposons de découvrir les techniques d'enquêtes anthropologiques e
 t théâtrales pour observer et décortiquer ce qui se joue au sein de ce 
 cercle de socialisation.\n\nCette année nous proposons un format de deux 
 heures par semaine durant deux mois (mai-juin) tous les mercredi de 20h à
  22h.\n\nNous aborderons les bases de la socio via le théâtre\, nous aur
 ons l'occasion de mener des entrevues et des enquêtes sociologiques afin 
 de questionner nos hypothèses et enfin nous terminerons par la mise en é
 criture des enquêtes de chacun-e pour en faire une lecture théâtralisé
 e devant un public choisi par vos soin.\n\nNous avons trois tarifs pour le
 s 8 séances que vous retrouverez dans le lien ci-dessous. Attention\, il 
 faut s'engager sur l'ensemble du cycle (entre 110€ et 190€)\n\nPour pl
 us d'info vous pouvez consulter ce lien : https://www.helloasso.com/associ
 ations/collectif-zetec/evenements/atelier-theatre-sociologique-1\n\nOu nou
 s poser des question via cette adresse : zetec.collectif@gmail.com\n\nAu p
 laisir de vous accueillir !\n\nAUCUNE CONNAISSANCE EN SOCIO REQUISE\nhttp:
 //www.agendabulle.fr/event/2026/5/6/2319-ateliers-de-theatre-sociologique\
 nhttps://www.le-tamis.info/evenement/ateliers-de-theatre-sociologique-2
LOCATION:Le Transfo\, 1 Rue Victor Lastella\, Grenoble
NAME:Ateliers de théâtre sociologique
END:VEVENT
END:VCALENDAR
