BEGIN:VCALENDAR
VERSION:2.0
PRODID:-//AgendaBulle//https://agendabulle.fr//
BEGIN:VEVENT
SUMMARY:Co Réparation Vélo en Mixité Choisie de Genre
DTSTART;TZID=Europe/Paris:20260425T110000
DTEND;TZID=Europe/Paris:20260425T130000
DTSTAMP:20260420T131837Z
UID:c8fafba427ec4df29c4a0e1467da0f0a@agendabulle.fr
DESCRIPTION:Tous les derniers samedis du mois à la Recyclerie Sportive de
  Grenoble de 11h à 13h Adresse : 3 rue Raoul Blanchard\, Grenoble Viens r
 éparer ton vélo\, apprendre les bases de la mécaniques\, et mettre les 
 mains dans le cambouis Cet évènement est en mixité choisie de genre\, a
 nimé par et pour les femmes et minorités de genre.\n\nL'objectif est de 
 créer un espace bienveillant et safe pour découvrir la mécanique ou app
 rofondir ses connaissances Cotisation à l'asso obligatoire pour participe
 r - 25€ ou 15€ (tarif solidaire) pour l'année\nhttp://www.agendabulle
 .fr/event/2026/4/25/2325-co-reparation-velo-en-mixite-choisie-de-genre\nht
 tps://www.le-tamis.info/evenement/co-reparation-velo-en-mixite-choisie-de-
 genre
LOCATION:Recyclerie Sportive Grenoble\, 3 Rue Raoul Blanchard\, Grenoble
NAME:Co Réparation Vélo en Mixité Choisie de Genre
END:VEVENT
END:VCALENDAR
