BEGIN:VCALENDAR
VERSION:2.0
PRODID:-//AgendaBulle//https://agendabulle.fr//
BEGIN:VEVENT
SUMMARY:La Grande Tablée deuxième édition
DTSTART;TZID=Europe/Paris:20260425T090000
DTEND;TZID=Europe/Paris:20260425T110000
DTSTAMP:20260420T131838Z
UID:9af71857d999da58fa5ddbb26a22bc80@agendabulle.fr
DESCRIPTION:La Grande Tablée – Deuxième édition arrive dans quelques 
 jours ! 🍽️\n\nPortée par la Régie de Quartier de Grenoble et la Coo
 rdination Alimentation du secteur 6\,\n\nLa Grande Tablée est un événem
 ent ouvert à toutes et à tous\, où tout un chacun se retrouvent le temp
 s d’une journée pour partager un bon moment ensemble autour d’un repa
 s convivial et avoir des temps d'échange sur le : “Bien manger\, ensemb
 le : Agir face aux injustices alimentaires” .\n\nCet événement marque 
 également le lancement d’une année d’actions et d’animations\n\n
 ✨ Au programme : 🕘 9h00 – Ateliers cuisine 🍴 12h30 – Grande Ta
 blée : dégustation des repas préparés collectivement 🗣️ 14h00 –
  Restitution des enquêtes sur l’alimentation 🌿 15h00 – Visite de l
 a Ferme des 1000 feuilles\n\nDate: Le 25 Avril 2026\n\n📍 Lieu : Halle d
 es Iris 90 Galerie de l’Arlequin\, Grenoble\n\n📝 Participation sur in
 scription à la Machinerie 11 rue des Peupliers\, 38100 Grenoble\n\nVenez 
 partager ce moment chaleureux et engagé avec nous ! 💛\nhttp://www.agen
 dabulle.fr/event/2026/4/25/2336-la-grande-tablee-deuxieme-edition\nhttps:/
 /www.le-tamis.info/evenement/la-grande-tablee-deuxieme-edition
LOCATION:Le Patio\, Galerie de l'Arlequin\, Grenoble
NAME:La Grande Tablée deuxième édition
END:VEVENT
END:VCALENDAR
