BEGIN:VCALENDAR
VERSION:2.0
PRODID:-//AgendaBulle//https://agendabulle.fr//
BEGIN:VEVENT
SUMMARY:Temps collectif : J'ai avorté\, et si j'en parlais ?
DTSTART;TZID=Europe/Paris:20260505T183000
DTEND;TZID=Europe/Paris:20260505T203000
DTSTAMP:20260420T131838Z
UID:d498a836761d68676b587979feb809da@agendabulle.fr
DESCRIPTION:À 18h30\n\nAu Planning Familial de Grenoble Gambetta (attenti
 on\, non accessible PMR\, nous contacter !)\nhttp://www.agendabulle.fr/eve
 nt/2026/5/5/2339-temps-collectif-jai-avorte-et-si-jen-parlais\nhttps://www
 .le-tamis.info/evenement/temps-collectif-jai-avorte-et-si-jen-parlais
IMAGE;VALUE=URI:http://www.agendabulle.fr/media/bff04afd-c2ba-47db-998f-51
 271a21edfa.jpg
LOCATION:Planning familial de l'isère\, Rue Lesdiguières\, Grenoble
NAME:Temps collectif : J'ai avorté\, et si j'en parlais ?
END:VEVENT
END:VCALENDAR
