BEGIN:VCALENDAR
VERSION:2.0
PRODID:-//AgendaBulle//https://agendabulle.fr//
BEGIN:VEVENT
SUMMARY:Groupe de parole AFTOC Grenoble (Troubles Obsessionnels Compulsifs
 )
DTSTART;TZID=Europe/Paris:20260423T180000
DTEND;TZID=Europe/Paris:20260423T200000
DTSTAMP:20260420T131837Z
UID:a65a912b937ca3ca6f6f1032426f63c9@agendabulle.fr
DESCRIPTION:Vous souffrez de TOC (Troubles Obsessionnels Compulsifs) ou vo
 us êtes proche d'une personne atteinte de cette pathologie ? Ne restez pa
 s seul-e !\n\nLe groupe de parole de l'AFTOC de Grenoble vous permet de re
 ncontrer des personnes concernées par la maladie.\n\nLe groupe de parole 
 a pour vocation d’être un lieu d’information\, d’échange et de sou
 tien. C’est l’occasion de rencontrer dans la bienveillance d’autres 
 permasonnes touchées directement ou indirectement par les TOC.\n\nLes par
 ticipant-e-s sont libres d’écouter et/ou prendre la parole.\n\nVenez pa
 rticiper\, écouter\, prendre la parole\, venez partager votre expérience
  avec d’autres également !\n\nPlus d'infos sur www.aftoc.org\nhttp://ww
 w.agendabulle.fr/event/2026/4/23/2327-groupe-de-parole-aftoc-grenoble-trou
 bles-obsessionnels-compulsifs\nhttps://www.le-tamis.info/evenement/groupe-
 de-parole-aftoc-grenoble-troubles-obsession
LOCATION:Maison de la Vie Associative et Citoyenne\, 6 Rue Berthe de Boiss
 ieux\, Grenoble
NAME:Groupe de parole AFTOC Grenoble (Troubles Obsessionnels Compulsifs)
END:VEVENT
BEGIN:VEVENT
SUMMARY:Atelier statut juridique d'un projet
DTSTART;TZID=Europe/Paris:20260423T183000
DTEND;TZID=Europe/Paris:20260423T203000
DTSTAMP:20260420T131838Z
UID:2bb5d69ef212404977417596b65c8af1@agendabulle.fr
DESCRIPTION:Atelier " Les statuts juridiques d’un projet d’habitat par
 ticipatif "\n\nVotre projet avance\, vous avez déjà défini vos objectif
 s\, vos valeurs\, votre charte\, etc. et se pose maintenant la question du
  statut juridique de votre futur habitat. Copropriété\, SCIA\, SCI ou en
 core Coopérative d’habitants ? Que signifient ces statuts ? Lequel est 
 le plus adapté à votre projet ? Comment choisir ? Lors de cet atelier\, 
 animé par Franck Montaudon\, administrateur des HABILES et habitant d’u
 n habitat participatif en SCIA\, nous échangerons sur les différents sta
 tuts possibles\, les méthodes pour choisir le bon et présenterons quelqu
 es exemples récents d’habitat participatif aux statuts particuliers.\n\
 nA l’issue de l’atelier\, un temps sera proposé pour les infos et pet
 ites annonces des groupes en projet.Nous pourrons également échanger aut
 our d’un apéritif partagé pour lequel nous attendons vos contributions
  à manger ou à boire.\nhttp://www.agendabulle.fr/event/2026/4/23/2342-at
 elier-statut-juridique-dun-projet\nhttps://www.le-tamis.info/evenement/ate
 lier-statut-juridique-dun-projet
LOCATION:Maison de la Vie Associative et Citoyenne\, 6 Rue Berthe de Boiss
 ieux\, Grenoble
NAME:Atelier statut juridique d'un projet
END:VEVENT
END:VCALENDAR
