BEGIN:VCALENDAR
VERSION:2.0
PRODID:-//AgendaBulle//https://agendabulle.fr//
BEGIN:VEVENT
SUMMARY:RDV mensuel entre personnes LGBTI non blanches
DTSTART;TZID=Europe/Paris:20260502T140000
DTEND;TZID=Europe/Paris:20260502T160000
DTSTAMP:20260420T131840Z
UID:ff0fccd98c497e13bb60d77ea35d1d26@agendabulle.fr
DESCRIPTION:Issu.es de la commission animation du centre LGBTI\, nous somm
 es un jeune collectif de personnes queers et non blanches\, né de l’env
 ie d’avoir des espaces à nous\, où l’on peut se retrouver\, se recon
 naître et croiser nos vécus.\n\nCette rencontre est pensée comme un tem
 ps chaleureux et sans pression\, pour discuter\, tisser des liens\, et par
 tager ce qui fait nos expériences à l’intersection de nos identités.\
 n\nNous nous retrouvons tous les premier samedi du mois au centre LBGTI de
  Grenoble\, en non mixité personnes non-blanches / racisées.\nhttp://www
 .agendabulle.fr/event/2026/5/2/2351-rdv-mensuel-entre-personnes-lgbti-non-
 blanches\nhttps://www.le-tamis.info/evenement/rdv-mensuel-entre-personnes-
 lgbti-non-blanches
LOCATION:Centre LGBTI de Grenoble\, 8 Rue Sergent Bobillot\, Grenoble
NAME:RDV mensuel entre personnes LGBTI non blanches
END:VEVENT
BEGIN:VEVENT
SUMMARY:Permanence de la commission asile et exil pour les demandeur.euse.
 s d'asile LGBTI
DTSTART;TZID=Europe/Paris:20260420T170000
DTEND;TZID=Europe/Paris:20260420T190000
DTSTAMP:20260420T131837Z
UID:d2d3e7b96da14a920221ffcc11001791@agendabulle.fr
DESCRIPTION:Le centre LGBTI (lesbiennes\, gays\, bisexuel-les\,transet int
 ersexes) de Grenoble lutte contre les discriminations liées à l'orientat
 ion sexuelle et à l’identité de genre.\n\nDans ce cadre\, la commissio
 n asile accueille les demandeurs et demandeuses d’asile qui ont quitté 
 leur pays pour fuir les persécutions subies en raison de leur orientation
  sexuelle ou d’identité de genre.\n\nLors des permanences de la commiss
 ion nous pourrons vous apporter du soutien dans vos démarches. Ce sera au
 ssi l’occasion d’échanger avec d’autres demandeurs et demandeuses d
 ’asile LGBTI.\n\nVous êtes concerné.e.s ? Bienvenu.e.s à nos permane
 nces !\n\nLes3èmelundi du mois pour les personnes francophones\n\nLes 3
 ème jeudi du mois pour les personnes anglophones\n\n17h à 19h\n\nCentre 
 LGBTI Grenoble\, 8 rue Sergent Bobillot\, rez-de-chaussée droit.\n\nConta
 ct : asilelgbti38@gresille.org\n\n06 52 90 53 53\n\nThe LGBTI (lesbian\, 
 gay\, bisexual\, trans and intersex) center in Grenoble fights against sex
 ual-orientation and gender-identity based discrimination.\n\nAs part of th
 is struggle\, the Asylum and Exile Commission opens its doors to those see
 king asylum after having left their home countries to fleesexual-orientati
 on or gender-identity based persecution.\n\nDuring the commission’s open
 ing hours\, we can provide you with support with your administrative proce
 dures. It’s also a good occasion to exchange and shareexperiences/inform
 ationwith other LGBTI asylum seekers.\n\nDo you think the commission could
  meet some of your needs? Then feel free to come by!! Opening times : 3rdt
 hursday of every month\, from 5-7pm LGBTI Center Grenoble\, 8 rue Sergent 
 Bobillot\, ground floor right\n\nContact : asilelgbti38@gresille.org\n\n0
 6 52 90 53 53\nhttp://www.agendabulle.fr/event/2026/4/20/2315-permanence-d
 e-la-commission-asile-et-exil-pour-les-demandeureuses-dasile-lgbti\nhttps:
 //www.le-tamis.info/evenement/permanence-de-la-commission-asile-et-exil-po
 ur-les
LOCATION:Centre LGBTI de Grenoble\, 8 Rue Sergent Bobillot\, Grenoble
NAME:Permanence de la commission asile et exil pour les demandeur.euse.s d
 'asile LGBTI
END:VEVENT
END:VCALENDAR
