BEGIN:VCALENDAR
VERSION:2.0
PRODID:-//AgendaBulle//https://agendabulle.fr//
BEGIN:VEVENT
SUMMARY:Rencontre mensuelle Handissidence
DTSTART;TZID=Europe/Paris:20260425T140000
DTEND;TZID=Europe/Paris:20260425T160000
DTSTAMP:20260420T131840Z
UID:ec5c76d0bb7391c09ba5ae65ddbf4a27@agendabulle.fr
DESCRIPTION:Description Rendez-vous le samedi 25 avril de 14h à 17h pour 
 les RENCONTRES QUEER CONTRE LE VALIDISME ET LA PSYCHOPHOBIE 🌈 au Lîeu\
 , 17 rue Abbé Grégoire\, Grenoble – arrêt Saint-Bruno 📍 Pour parta
 ger un goûter\, dessiner\, papoter\, se rencontrer\, proposer des activit
 és... Et préparer des actions antivalidistes pour la Marche des Fiertés
  de Grenoble ✨ Pas de permanence d'entraide\, les demandes d'aides peuv
 ent toujours nous être adressées sur nos réseaux 😊 INFOS ACCESSIBILI
 TÉ : Lieu et sanitaire accessible PMR. Stim-toys\, casques antibruit\, bo
 uchons d'oreilles\, salle calme et espace extérieur. Gel hydroalcoolique\
 , masques FFP2 (et chirurgicaux) à disposition et port du masque en inté
 rieur systématique (sauf contre-indication médicale). Nous invitons les 
 personnes qui ont des symptômes en lien avec une infection virale à ne p
 as venir aux rencontres. Nous ne pourrons PAS offrir de traduction LSF ou 
 d'accompagnement pour personne avec handicap visuel cette fois-ci. QUESTIO
 NS - DEMANDES - INFOS : queerantivalidisme38@tutamail.com Si tu veux être
  au courant des prochains événements\, nous pouvons t'ajouter à la mail
 ing-list  💌 Nous restons à ta disposition pour tout besoin spécifiqu
 e\, que ce soit pour te chercher à la porte\, présenter le lieu\, discut
 er individuellement avant de rejoindre le groupe\, demander des accommodat
 ions… ❤️\nhttp://www.agendabulle.fr/event/2026/4/25/2354-rencontre-m
 ensuelle-handissidence\nhttps://www.le-tamis.info/evenement/rencontre-mens
 uelle-handissidence
LOCATION:Le lieu\, 17 rue Abbé Grégoire\, Grenoble\, Grenoble
NAME:Rencontre mensuelle Handissidence
END:VEVENT
BEGIN:VEVENT
SUMMARY:ASSEMBLÉE ANTI-MILITARISTE ET ANTI-IMPÉRIALISTE
DTSTART;TZID=Europe/Paris:20260423T183000
DTEND;TZID=Europe/Paris:20260423T203000
DTSTAMP:20260420T131836Z
UID:f1e8390750f466e925021e6b573b16d8@agendabulle.fr
DESCRIPTION:Cela fait maintenant plus de 2 ans que la guerre génocidaire 
 en Palestine et à Gaza se déroule sous nos yeux\, après plus de 100 ans
  de violences coloniales. Ce génocide est alimenté par des technologies 
 produites localement. STMicroelectronics (présente dans la région mais a
 ussi dans l’État colonial israélien) exporte par exemple à l’entit
 é sioniste des technologies de pointe\, qui contribuent au développement
  militaire de son armée d’occupation.\n\nDepuis des mois\, des individu
 s sont en lutte ici et ailleurs contre ces complicités de génocide. Dans
  le même temps\, les puissances impérialistes lancent de nouvelles offen
 sives\, comme au Venezuela et en Iran. C’est dans ce contexte que nous a
 ppelons à une Assemblée générale ouverte pour amplifier la lutte contr
 e l’armement et contre l’impérialisme.\n\nTexte d’appel initial\n\n
 Cette assemblée rassemble des organisations politiques et ainsi de que de
 s individus. Elle a lieu tous les 3 et 23 du mois\, et cet espace est touj
 ours rejoignable !\n\nOù ? Généralement au Lieu (17 rue abée Grégoi
 re) ou à la Cata (29 traverse des Iles) Quand ? Les 3 et 23 du mois à 1
 8h30\n\nL’AG du 23 mars aura lieu au Lieu !\nhttp://www.agendabulle.fr/
 event/2026/4/23/2308-assemblee-anti-militariste-et-anti-imperialiste\nhttp
 s://www.le-tamis.info/evenement/assemblee-anti-militariste-et-anti-imperia
 liste-1
IMAGE;VALUE=URI:http://www.agendabulle.fr/media/99f08096-2251-497d-bff2-10
 8a2288f348.jpg
LOCATION:Le lieu\, 17 rue Abbé Grégoire\, Grenoble\, Grenoble
NAME:ASSEMBLÉE ANTI-MILITARISTE ET ANTI-IMPÉRIALISTE
END:VEVENT
BEGIN:VEVENT
SUMMARY:Assemblée Générale du Travail Social et médico-social en lutte
DTSTART;TZID=Europe/Paris:20260421T183000
DTEND;TZID=Europe/Paris:20260421T203000
DTSTAMP:20260420T131840Z
UID:386fbf247b521478bc5b10a656b0293f@agendabulle.fr
DESCRIPTION:Assemblée générale du travail social ouverte à toutes et 
 à tous les collègues du social et du médico-social\, en poste au chôma
 ge ou en formation\, syndiqué.e ou non.\n\nÀ 18h30\nhttp://www.agendabul
 le.fr/event/2026/4/21/2349-assemblee-generale-du-travail-social-et-medico-
 social-en-lutte\nhttps://www.le-tamis.info/evenement/assemblee-generale-du
 -travail-social-et-medico-soc
LOCATION:Le lieu\, 17 rue Abbé Grégoire\, Grenoble\, Grenoble
NAME:Assemblée Générale du Travail Social et médico-social en lutte
END:VEVENT
END:VCALENDAR
