BEGIN:VCALENDAR
VERSION:2.0
PRODID:-//AgendaBulle//https://agendabulle.fr//
BEGIN:VEVENT
SUMMARY:Festival arts du fil "Fil Better"
DTSTART;TZID=Europe/Paris:20260509T120000
DTEND;TZID=Europe/Paris:20260509T140000
DTSTAMP:20260420T131840Z
UID:6062467b88e9041dda52fc8c84df00d9@agendabulle.fr
DESCRIPTION:- Do It Yourself - Féminisme - Créativité - Récup' -\n\n
 ♥ Ateliers créatifs : broderie\, écriture\, crochet\, création de tap
 is... ♥ Démonstrations techniques (machine à tricoter\, tufting\, fila
 ge...) ♥ Zone de gratuité pour le matériel créatif (amène ce que tu 
 veux donner !) ♥ Craft party ! ♥ Et aussi des trucs à grignoter\, des
  livres à feuilleter\, des créations textiles exposées...\n\nDe midi à
  22h. Prix libre pour l'entrée & pour chaque atelier. Le programme détai
 llé des ateliers sera dispo avant l'évènement.\n\nEn partie non accessi
 ble aux personnes se déplaçant en fauteuil roulant : contactez-nous si v
 ous avez besoin de plus de détails : fil_better@protonmail.com\nhttp://ww
 w.agendabulle.fr/event/2026/5/9/2355-festival-arts-du-fil-fil-better\nhttp
 s://www.le-tamis.info/evenement/festival-arts-du-fil-fil-better
LOCATION:Le 102\, 102 Rue d'Alembert\, Grenoble
NAME:Festival arts du fil "Fil Better"
END:VEVENT
END:VCALENDAR
