BEGIN:VCALENDAR
VERSION:2.0
PRODID:-//AgendaBulle//https://agendabulle.fr//
BEGIN:VEVENT
SUMMARY:« L’autre 8 mai 1945 » à Sétif\, Guelma et Kherrata (Algéri
 e)
DTSTART;TZID=Europe/Paris:20260424T183000
DTEND;TZID=Europe/Paris:20260424T203000
DTSTAMP:20260420T131840Z
UID:5f2ca3f63a547989447b5664324e3fc1@agendabulle.fr
DESCRIPTION:« L’autre 8 mai 1945 »\n\nà Sétif\, Guelma et Kherrata
  (Algérie)\n\nLa célébration de la victoire des Alliés contre le nazis
 me le 8 mai 1945 en Algérie est l'occasion pour les Algériennes et les A
 lgériens de faire entendre leurs revendications. A Sétif\, des milliers 
 d'Algériens manifestent et brandissent des pancartes « Libérez Messali 
 » (Messali Hadj\, leader nationaliste emprisonné)\, « Nous voulons êtr
 e vos égaux »\, « À bas le colonialisme »\, « Vive l'Algérie libre 
 et indépendante »\, et un drapeau qui deviendra le drapeau de l’Algér
 ie indépendante.\n\nLa répression contre les Algériens sera féroce : s
 elon les historiens\, 10 000 à 45 000 victimes sont massacrées à Sétif
 \, Guelma et Kherrata par la police\, la gendarmerie\, les milices colonia
 les armées par les autorités locales\, et l'Armée Française\, agissant
  sur ordre de l'exécutif. Bombardements\, exécutions sommaires\, déport
 ations : le peuple algérien subit un véritable choc ce 8 Mai 1945.\n\nE
 n Algérie et en France\, quelles traces reste-t-il de ce massacre  du po
 int de vue de l’Histoire et des mémoires ?\n\nConférence-débat avec\n
 \nDaho Djerbal\n\nMaître de conférences en histoire contemporaine au Dé
 partement d'Histoire Université d'Alger 2. Ses travaux portent sur la rel
 ation entre Histoire et Mémoire. Il est depuis 1993 directeur de la revue
  NAQD\, revue d'études et de critique sociale. Il est l’auteur de « La
 khdar Ben Tobbal\, t. 1\, Mémoires de l’intérieur»\, éditions Chihab
  (2021) et de « Lakhdar Ben Tobbal\, t. 2\, La conquête de la souveraine
 té »\, éditions Chihab (2022).\n\net Olivier Le Cour Grandmaison\n\nMa
 ître de conférences en science politique à l'université d'Évry Paris-
 Saclay\, il enseigne au Collège international de philosophie. Il est l’
 un des initiateurs de la campagne pour la reconnaissance des massacres de 
 Sétif/Guelma/Kherrata comme « crime contre l’Humanité ». Il est l’
 auteur de "La fabrique du roman national républicain" \, éditions Amster
 dam (2025) et de "Oradour coloniaux français. Contre le roman national"\,
  Les Liens qui Libèrent (2025).\nhttp://www.agendabulle.fr/event/2026/4/2
 4/2356-lautre-8-mai-1945-a-setif-guelma-et-kherrata-algerie\nhttps://www.l
 e-tamis.info/evenement/lautre-8-mai-1945-a-setif-guelma-et-kherrata-alger
LOCATION:Maison du Tourisme\, Rue de la République\, Grenoble
NAME:« L’autre 8 mai 1945 » à Sétif\, Guelma et Kherrata (Algérie)
END:VEVENT
END:VCALENDAR
