BEGIN:VCALENDAR
VERSION:2.0
PRODID:-//AgendaBulle//https://agendabulle.fr//
BEGIN:VEVENT
SUMMARY:Conférence Midis by GIANT - 70 ans du centre CEA de Grenoble : fl
 ashback sur l'histoire du centre et ses évolutions
DTSTART;TZID=Europe/Paris:20260424T123000
DTEND;TZID=Europe/Paris:20260424T143000
DTSTAMP:20260420T024736Z
UID:a0e38f7089602fc90d5cbb05b0a75e05@agendabulle.fr
DESCRIPTION:Dans le cadre des 70 ans du centre CEA de Grenoble\, la procha
 ine conférence Midis by GIANT retrace l'histoire du centre\, profondémen
 t ancrée à Grenoble. Avec Pierre Caplier\, Directeur adjoint du centre\,
  pour un voyage dans le temps.\n\nNé dans le sillage de la création du C
 ommissariat à l’énergie atomique en 1945\, le Centre d’études nucl
 éaires de Grenoble (CENG) a vu le jour en 1956 sous l’impulsion de Loui
 s Néel\, avec une vision fondatrice : faire dialoguer recherche fondament
 ale et technologique\, innovation et industrie au service de la société.
 \n\nDepuis sept décennies\, le centre n’a cessé de se transformer. De 
 la recherche nucléaire historique aux défis contemporains du numérique\
 , de l’énergie\, de la santé\, des matériaux et de l’environnement\
 , il a su anticiper les mutations scientifiques et technologiques\, tout e
 n restant fidèle à son esprit pionnier et à sa culture de coopération.
 \n\nUn voyage dans le temps pour comprendre comment cette aventure scienti
 fique\, profondément ancrée à Grenoble\, contribue à façonner des inn
 ovations qui impactent notre quotidien. Parce que comprendre d’où l’o
 n vient\, c’est aussi éclairer ce que nous construisons pour demain.\n\
 nÀ propos de l’intervenant\n\nPierre Caplier est le directeur adjoint d
 u centre CEA de Grenoble depuis 4 ans. Après plusieurs expériences à l
 ’étranger (dans le cadre de la construction du Tunnel sous la Manche) e
 t dans l’industrie en région AuRA (microélectronique et chimie fine)\,
  il a été recruté au CEA en 2005 pour prendre la responsabilité du Ser
 vice Facilities du CEA-Leti\, en charge de l’exploitation et des projets
  dans les salles blanches. Il a ensuite occupé les fonctions d’adjoint 
 opérationnel au chef du département optique et photonique\, toujours au 
 LETI\, puis celles d’adjoint au directeur de l’institut CEA-Irig dépe
 ndant de la Direction de la recherche fondamentale\, en charge du soutien 
 à la recherche.\nhttp://www.agendabulle.fr/event/2026/4/24/2288-conferenc
 e-midis-by-giant-70-ans-du-centre-cea-de-grenoble-flashback-sur-lhistoire-
 du-centre-et-ses-evolutions\nhttps://www.grenoble-tourisme.com/fr/decouvri
 r/evenements/agenda/detail/conference-midis-by-giant-70-ans-du-centre-cea-
 de-grenoble-flashback-sur-l-histoire-du-centre-et-ses-evolutions-7738254/
IMAGE;VALUE=URI:http://www.agendabulle.fr/media/b30a5980-3dc1-42c4-86ff-2d
 23bd6c4d29.jpg
LOCATION:Maison Minatec\, 3 Parv. Louis Néel\, 38054 Grenoble\, Grenoble
NAME:Conférence Midis by GIANT - 70 ans du centre CEA de Grenoble : flash
 back sur l'histoire du centre et ses évolutions
END:VEVENT
END:VCALENDAR
