BEGIN:VCALENDAR
VERSION:2.0
PRODID:-//AgendaBulle//https://agendabulle.fr//
BEGIN:VEVENT
SUMMARY:Les Ecout'noux
DTSTART;TZID=Europe/Paris:20260424T200000
DTEND;TZID=Europe/Paris:20260424T220000
DTSTAMP:20260420T024737Z
UID:00a7c306c383ed65d8dd817fa31bb40b@agendabulle.fr
DESCRIPTION:Les Ecout’noux vous proposent de découvrir leurs compositio
 ns\n\nAncienne Auberge de Sarcenas\n\n153 route du Chateau\nhttp://www.age
 ndabulle.fr/event/2026/4/24/2294-les-ecoutnoux\nhttps://www.grenoble-touri
 sme.com/fr/decouvrir/evenements/agenda/detail/les-ecout-noux-5757547/
IMAGE;VALUE=URI:http://www.agendabulle.fr/media/f2fbe997-5559-4685-a810-a2
 9d73785fd2.jpg
LOCATION:Ancienne Auberge de Sarcenas\, 153 route du Chateau\, 38700 Sarce
 nas\, Sarcenas
NAME:Les Ecout'noux
END:VEVENT
END:VCALENDAR
