BEGIN:VCALENDAR
VERSION:2.0
PRODID:-//AgendaBulle//https://agendabulle.fr//
BEGIN:VEVENT
SUMMARY:Fête des voisins
DTSTART;TZID=Europe/Paris:20260529T190000
DTEND;TZID=Europe/Paris:20260529T210000
DTSTAMP:20260420T025206Z
UID:da2fbe14c335e786213d954959ce1899@agendabulle.fr
DESCRIPTION:L’AHCM (Association des Habitants de Charlaix Maupertuis) or
 ganise une fête des voisins le vendredi 29 mai 2026 à partir de 19 heure
 s au four à pain.\n\nLes habitants du quartier Charlaix Maupertuis sont i
 nvités à venir se rencontrer\, faire plus ample connaissance et échange
 r\, dans une ambiance conviviale et décontractée.\n\nChacun apporte quel
 que chose à partager et sa bonne humeur !\nhttp://www.agendabulle.fr/even
 t/2026/5/29/2106-fete-des-voisins\nhttps://www.meylan.fr/agenda/1700/41-fe
 te-des-voisins.htm?ID_AGENDAPERIODE=3638
IMAGE;VALUE=URI:http://www.agendabulle.fr/media/24946c91-26f5-4b13-80c0-88
 79ba3ef5b9.jpg
LOCATION:Four à pain\, All. de Châteauvieux\, 38240 Meylan\, Meylan
NAME:Fête des voisins
END:VEVENT
END:VCALENDAR
