BEGIN:VCALENDAR
VERSION:2.0
PRODID:-//AgendaBulle//https://agendabulle.fr//
BEGIN:VEVENT
SUMMARY:Les pieds dans l'herbe
DTSTART;TZID=Europe/Paris:20260530T170000
DTEND;TZID=Europe/Paris:20260530T190000
DTSTAMP:20260420T025206Z
UID:495691d21adb887b8518e22f3ba7a630@agendabulle.fr
DESCRIPTION:Le Cine et ses partenaires vous donnent rendez-vous pour fête
 r la nature "les pieds dans l'herbe !"\n\nProgramme détaillé à venir\nh
 ttp://www.agendabulle.fr/event/2026/5/30/2108-les-pieds-dans-lherbe\nhttps
 ://www.meylan.fr/agenda/1900/41-les-pieds-dans-l-herbe.htm?ID_AGENDAPERIOD
 E=3495
IMAGE;VALUE=URI:http://www.agendabulle.fr/media/cca99053-2607-4356-ad6e-c2
 a8b5a42006.jpg
LOCATION:Parc de Rochasson\, 52 Chem. de Rochasson\, 38240 Meylan\, Meylan
NAME:Les pieds dans l'herbe
END:VEVENT
END:VCALENDAR
