BEGIN:VCALENDAR
VERSION:2.0
PRODID:-//AgendaBulle//https://agendabulle.fr//
BEGIN:VEVENT
SUMMARY:L'Abolition des privilèges – Le Royal velours
DTSTART;TZID=Europe/Paris:20260424T143000
DTEND;TZID=Europe/Paris:20260424T163000
DTSTAMP:20260420T025211Z
UID:baa4ebf9a7d803fe31e859752d372250@agendabulle.fr
DESCRIPTION:D’APRÈS LE ROMAN DE BERTRAND GUILLOT ADAPTATION ET MISE EN 
 SCÈNE HUGUES DUCHÊNE LE ROYAL VELOURS\n\nÉtats généraux de 1789. La F
 rance va mal. C’est un État en déficit chronique où les plus riches 
 échappent à l’impôt. Un régime à bout de souffle et un peuple à bo
 ut de nerfs qui réclame justice. Un pays riche mais bloqué. Jusqu’à c
 e qu’au cours d’une nuit\, à Versailles\, tout bascule. Jouée dans u
 n espace quadrifrontal\, l’Abolition des privilèges est une formidable 
 adaptation par le jeune et talentueux Hugues Duchêne du roman de Bertrand
  Guillot. Tout est là sur le plateau : la grande Histoire\, un comédien 
 époustouflant incarnant une dizaine de personnages\, une surprise dramatu
 rgique hilarante et le public convoqué à réfléchir aux défis politiqu
 es contemporains. Un coup de maître !\n\nAvec Maxime Pambet et Hugues Duc
 hêne\n\nDécouvrez le teaser vidéo du spectacle L'Abolition des privilè
 ges.\n\nBord plateau\n\nTournée régionale mutualisée pour l’impact é
 cologique et le confort des artistes.\nhttp://www.agendabulle.fr/event/202
 6/4/24/2112-labolition-des-privileges-le-royal-velours\nhttps://www.grenob
 le.fr/agenda/4280/45-l-abolition-des-privileges-le-royal-velours.htm
IMAGE;VALUE=URI:http://www.agendabulle.fr/media/42002563-c78a-4642-a992-70
 78867fbc22.jpg
LOCATION:Théâtre 145\, 145 Cours Berriat 38000 Grenoble\, Grenoble
NAME:L'Abolition des privilèges – Le Royal velours
END:VEVENT
BEGIN:VEVENT
SUMMARY:La chorale des sonneurs
DTSTART;TZID=Europe/Paris:20260511T183000
DTEND;TZID=Europe/Paris:20260511T203000
DTSTAMP:20260420T023631Z
UID:e699a0c2a630694866f2b9c50b436763@agendabulle.fr
DESCRIPTION:Un atelier participatif qui donnera lieu à une représentatio
 n ANIMÉ PAR GRÉGORY FAIVE\, FRANCOIS THOLLET ET JOCELYNE TOURNIER COMPAG
 NIE LE CHAT DU DÉSERT Peut-être avez-vous déjà entendu Grégory Faive 
 et François Thollet faire sonner en musique Les Sonnets de Shakespeare ? 
 Ne serait-ce que pendant les Journées européennes du patrimoine en septe
 mbre 2025 au Grand Théâtre. Dès avril 2026\, ils vous invitent à crée
 r une chorale qui fera sonner les sonnets à leurs côtés\, avec Jocelyne
  Tournier qui vous accompagnera pour trouver votre voix. Que vous soyez ch
 anteur\, chanteuse ou non\, venez les rejoindre !\nhttp://www.agendabulle.
 fr/event/2026/5/11/2153-la-chorale-des-sonneurs\nhttps://www.grenoble.fr/a
 genda/4363/46-la-chorale-des-sonneurs.htm
IMAGE;VALUE=URI:http://www.agendabulle.fr/media/d3185ccd-6879-47fc-9093-3e
 47064ce7fb.jpg
LOCATION:Théâtre 145\, 145 Cours Berriat 38000 Grenoble\, Grenoble
NAME:La chorale des sonneurs
END:VEVENT
BEGIN:VEVENT
SUMMARY:La chorale des sonneurs
DTSTART;TZID=Europe/Paris:20260601T183000
DTEND;TZID=Europe/Paris:20260601T203000
DTSTAMP:20260420T023632Z
UID:37e4cad96dac3bb812757302271d1880@agendabulle.fr
DESCRIPTION:Un atelier participatif qui donnera lieu à une représentatio
 n ANIMÉ PAR GRÉGORY FAIVE\, FRANCOIS THOLLET ET JOCELYNE TOURNIER COMPAG
 NIE LE CHAT DU DÉSERT Peut-être avez-vous déjà entendu Grégory Faive 
 et François Thollet faire sonner en musique Les Sonnets de Shakespeare ? 
 Ne serait-ce que pendant les Journées européennes du patrimoine en septe
 mbre 2025 au Grand Théâtre. Dès avril 2026\, ils vous invitent à crée
 r une chorale qui fera sonner les sonnets à leurs côtés\, avec Jocelyne
  Tournier qui vous accompagnera pour trouver votre voix. Que vous soyez ch
 anteur\, chanteuse ou non\, venez les rejoindre !\nhttp://www.agendabulle.
 fr/event/2026/6/1/2155-la-chorale-des-sonneurs\nhttps://www.grenoble.fr/ag
 enda/4363/46-la-chorale-des-sonneurs.htm
IMAGE;VALUE=URI:http://www.agendabulle.fr/media/5f875ea4-cc8a-4ecd-a12c-9e
 07297e3064.jpg
LOCATION:Théâtre 145\, 145 Cours Berriat 38000 Grenoble\, Grenoble
NAME:La chorale des sonneurs
END:VEVENT
BEGIN:VEVENT
SUMMARY:La chorale des sonneurs
DTSTART;TZID=Europe/Paris:20260518T183000
DTEND;TZID=Europe/Paris:20260518T203000
DTSTAMP:20260420T023632Z
UID:7cb7d99e8d7583060febff619b5b6ad4@agendabulle.fr
DESCRIPTION:Un atelier participatif qui donnera lieu à une représentatio
 n ANIMÉ PAR GRÉGORY FAIVE\, FRANCOIS THOLLET ET JOCELYNE TOURNIER COMPAG
 NIE LE CHAT DU DÉSERT Peut-être avez-vous déjà entendu Grégory Faive 
 et François Thollet faire sonner en musique Les Sonnets de Shakespeare ? 
 Ne serait-ce que pendant les Journées européennes du patrimoine en septe
 mbre 2025 au Grand Théâtre. Dès avril 2026\, ils vous invitent à crée
 r une chorale qui fera sonner les sonnets à leurs côtés\, avec Jocelyne
  Tournier qui vous accompagnera pour trouver votre voix. Que vous soyez ch
 anteur\, chanteuse ou non\, venez les rejoindre !\nhttp://www.agendabulle.
 fr/event/2026/5/18/2154-la-chorale-des-sonneurs\nhttps://www.grenoble.fr/a
 genda/4363/46-la-chorale-des-sonneurs.htm
IMAGE;VALUE=URI:http://www.agendabulle.fr/media/ec3fae1c-444c-468f-b08c-ef
 bf84ad897d.jpg
LOCATION:Théâtre 145\, 145 Cours Berriat 38000 Grenoble\, Grenoble
NAME:La chorale des sonneurs
END:VEVENT
BEGIN:VEVENT
SUMMARY:La chorale des sonneurs
DTSTART;TZID=Europe/Paris:20260420T183000
DTEND;TZID=Europe/Paris:20260420T203000
DTSTAMP:20260420T023631Z
UID:e416fe31f4e91fca696085bf33ce5cde@agendabulle.fr
DESCRIPTION:Un atelier participatif qui donnera lieu à une représentatio
 n ANIMÉ PAR GRÉGORY FAIVE\, FRANCOIS THOLLET ET JOCELYNE TOURNIER COMPAG
 NIE LE CHAT DU DÉSERT Peut-être avez-vous déjà entendu Grégory Faive 
 et François Thollet faire sonner en musique Les Sonnets de Shakespeare ? 
 Ne serait-ce que pendant les Journées européennes du patrimoine en septe
 mbre 2025 au Grand Théâtre. Dès avril 2026\, ils vous invitent à crée
 r une chorale qui fera sonner les sonnets à leurs côtés\, avec Jocelyne
  Tournier qui vous accompagnera pour trouver votre voix. Que vous soyez ch
 anteur\, chanteuse ou non\, venez les rejoindre !\nhttp://www.agendabulle.
 fr/event/2026/4/20/2151-la-chorale-des-sonneurs\nhttps://www.grenoble.fr/a
 genda/4363/46-la-chorale-des-sonneurs.htm
IMAGE;VALUE=URI:http://www.agendabulle.fr/media/e1c9b186-a3fe-4aad-bf22-3a
 aa5f54a9e4.jpg
LOCATION:Théâtre 145\, 145 Cours Berriat 38000 Grenoble\, Grenoble
NAME:La chorale des sonneurs
END:VEVENT
BEGIN:VEVENT
SUMMARY:La chorale des sonneurs
DTSTART;TZID=Europe/Paris:20260427T183000
DTEND;TZID=Europe/Paris:20260427T203000
DTSTAMP:20260420T023631Z
UID:f9ba0e7a5f3b89c17cd89630fcb1a487@agendabulle.fr
DESCRIPTION:Un atelier participatif qui donnera lieu à une représentatio
 n ANIMÉ PAR GRÉGORY FAIVE\, FRANCOIS THOLLET ET JOCELYNE TOURNIER COMPAG
 NIE LE CHAT DU DÉSERT Peut-être avez-vous déjà entendu Grégory Faive 
 et François Thollet faire sonner en musique Les Sonnets de Shakespeare ? 
 Ne serait-ce que pendant les Journées européennes du patrimoine en septe
 mbre 2025 au Grand Théâtre. Dès avril 2026\, ils vous invitent à crée
 r une chorale qui fera sonner les sonnets à leurs côtés\, avec Jocelyne
  Tournier qui vous accompagnera pour trouver votre voix. Que vous soyez ch
 anteur\, chanteuse ou non\, venez les rejoindre !\nhttp://www.agendabulle.
 fr/event/2026/4/27/2152-la-chorale-des-sonneurs\nhttps://www.grenoble.fr/a
 genda/4363/46-la-chorale-des-sonneurs.htm
IMAGE;VALUE=URI:http://www.agendabulle.fr/media/df95e9d1-f4bc-40e8-9053-7e
 54336911f7.jpg
LOCATION:Théâtre 145\, 145 Cours Berriat 38000 Grenoble\, Grenoble
NAME:La chorale des sonneurs
END:VEVENT
BEGIN:VEVENT
SUMMARY:La chorale des sonneurs
DTSTART;TZID=Europe/Paris:20260605T183000
DTEND;TZID=Europe/Paris:20260605T203000
DTSTAMP:20260420T023632Z
UID:86c707d6a6fcde833fb6abbfc4e2988c@agendabulle.fr
DESCRIPTION:Un atelier participatif qui donnera lieu à une représentatio
 n ANIMÉ PAR GRÉGORY FAIVE\, FRANCOIS THOLLET ET JOCELYNE TOURNIER COMPAG
 NIE LE CHAT DU DÉSERT Peut-être avez-vous déjà entendu Grégory Faive 
 et François Thollet faire sonner en musique Les Sonnets de Shakespeare ? 
 Ne serait-ce que pendant les Journées européennes du patrimoine en septe
 mbre 2025 au Grand Théâtre. Dès avril 2026\, ils vous invitent à crée
 r une chorale qui fera sonner les sonnets à leurs côtés\, avec Jocelyne
  Tournier qui vous accompagnera pour trouver votre voix. Que vous soyez ch
 anteur\, chanteuse ou non\, venez les rejoindre !\nhttp://www.agendabulle.
 fr/event/2026/6/5/2156-la-chorale-des-sonneurs\nhttps://www.grenoble.fr/ag
 enda/4363/46-la-chorale-des-sonneurs.htm
IMAGE;VALUE=URI:http://www.agendabulle.fr/media/d717b3fb-e5cd-4faa-99ac-b7
 b036de5729.jpg
LOCATION:Théâtre 145\, 145 Cours Berriat 38000 Grenoble\, Grenoble
NAME:La chorale des sonneurs
END:VEVENT
BEGIN:VEVENT
SUMMARY:L'Abolition des privilèges – Le Royal velours
DTSTART;TZID=Europe/Paris:20260424T200000
DTEND;TZID=Europe/Paris:20260424T220000
DTSTAMP:20260420T025211Z
UID:3cd089b5ed55233da2bf92328b9a7f6a@agendabulle.fr
DESCRIPTION:D’APRÈS LE ROMAN DE BERTRAND GUILLOT ADAPTATION ET MISE EN 
 SCÈNE HUGUES DUCHÊNE LE ROYAL VELOURS\n\nÉtats généraux de 1789. La F
 rance va mal. C’est un État en déficit chronique où les plus riches 
 échappent à l’impôt. Un régime à bout de souffle et un peuple à bo
 ut de nerfs qui réclame justice. Un pays riche mais bloqué. Jusqu’à c
 e qu’au cours d’une nuit\, à Versailles\, tout bascule. Jouée dans u
 n espace quadrifrontal\, l’Abolition des privilèges est une formidable 
 adaptation par le jeune et talentueux Hugues Duchêne du roman de Bertrand
  Guillot. Tout est là sur le plateau : la grande Histoire\, un comédien 
 époustouflant incarnant une dizaine de personnages\, une surprise dramatu
 rgique hilarante et le public convoqué à réfléchir aux défis politiqu
 es contemporains. Un coup de maître !\n\nAvec Maxime Pambet et Hugues Duc
 hêne\n\nDécouvrez le teaser vidéo du spectacle L'Abolition des privilè
 ges.\n\nBord plateau\n\nTournée régionale mutualisée pour l’impact é
 cologique et le confort des artistes.\nhttp://www.agendabulle.fr/event/202
 6/4/24/2113-labolition-des-privileges-le-royal-velours\nhttps://www.grenob
 le.fr/agenda/4280/45-l-abolition-des-privileges-le-royal-velours.htm
IMAGE;VALUE=URI:http://www.agendabulle.fr/media/47c39a22-22b7-43a9-a27c-d2
 07388f7621.jpg
LOCATION:Théâtre 145\, 145 Cours Berriat 38000 Grenoble\, Grenoble
NAME:L'Abolition des privilèges – Le Royal velours
END:VEVENT
BEGIN:VEVENT
SUMMARY:La Chorale des Sonneurs - Le Chat du désert - Théâtre 145
DTSTART;TZID=Europe/Paris:20260606T200000
DTEND;TZID=Europe/Paris:20260606T220000
DTSTAMP:20260420T025213Z
UID:bd63931dd29bc7092e2a1a2e01e0bcd6@agendabulle.fr
DESCRIPTION:ANIMÉ PAR GRÉGORY FAIVE\, FRANCOIS THOLLET ET JOCELYNE TOURN
 IER COMPAGNIE LE CHAT DU DÉSERT\n\nPeut-être avez-vous déjà entendu Gr
 égory Faive et François Thollet faire sonner en musique Les Sonnets de S
 hakespeare ? Ne serait-ce que pendant les Journées européennes du patrim
 oine en septembre 2025 au Grand Théâtre. D'avril à juin\, le duo a réu
 ni une chorale pour faire sonner les sonnets à ses côtés\, accompagné 
 de Jocelyne Tournier pour trouver leur voix.\n\nLes choristes vous inviten
 t à assister à leurs représentations !\n\nDeux représentations à déc
 ouvrir :\n\nLe samedi 6 juin à 20h au Théâtre 145 Le mardi 9 juin à 19
 h à la Cité Baya\nhttp://www.agendabulle.fr/event/2026/6/6/2119-la-chora
 le-des-sonneurs-le-chat-du-desert-theatre-145\nhttps://www.grenoble.fr/age
 nda/6188/45-la-chorale-des-sonneurs-le-chat-du-desert-theatre-145.htm
IMAGE;VALUE=URI:http://www.agendabulle.fr/media/4d189b64-dd84-4fb4-93c5-0c
 dde46c5858.jpg
LOCATION:Théâtre 145\, 145 Cours Berriat 38000 Grenoble\, Grenoble
NAME:La Chorale des Sonneurs - Le Chat du désert - Théâtre 145
END:VEVENT
BEGIN:VEVENT
SUMMARY:Racine – Humani théâtre
DTSTART;TZID=Europe/Paris:20260429T200000
DTEND;TZID=Europe/Paris:20260429T220000
DTSTAMP:20260420T025212Z
UID:a845bf65138c92ef3ecb38deb8467bb6@agendabulle.fr
DESCRIPTION:TEXTE ANNE CONTENSOU MISE EN SCÈNE MARINE ARNAULT ET FABIEN B
 ERGÈS HUMANI THÉÂTRE\n\nJeanne\, collégienne dans un petit village rur
 al\, parle très peu et cultive sa différence avec les jeunes de son âge
 . Mal dans sa peau\, elle est en conflit avec les mots\, mais aussi avec l
 es adultes. En elle bouillonne une colère sourde contre ses professeurs q
 ui veulent la faire sortir de sa coquille et contre sa famille dont elle c
 roit subir l’héritage comme une malédiction. Son seul rêve : tout qui
 tter et partir loin. Mais une découverte inattendue va bouleverser son ex
 istence. Sous forme de récit traversant les époques\, cette pièce port
 ée par une comédienne remarquable accompagnée par les chants vibrants d
 ’un musicien\, traite avec justesse de l’adolescence. Cet âge où l
 ’on questionne ses origines familiales\, culturelles et sociales\, où l
 ’on cherche qui l’on est et qui l’on voudrait être.\n\nAvec Titouan
  Billon jeu et musique\, Laure Descamps\n\nRetrouvez le spectacle Samedi 2
 6 et dimanche 27 avril – Saison culturelle «Échos\, tous au spectacle
 » tournée en Grésivaudan\n\nTournée mutualisée pour l’impact écolo
 gique et le confort des artistes.\nhttp://www.agendabulle.fr/event/2026/4/
 29/2118-racine-humani-theatre\nhttps://www.grenoble.fr/agenda/4283/45-raci
 ne-humani-theatre.htm
IMAGE;VALUE=URI:http://www.agendabulle.fr/media/7643ccaa-44b3-48b4-aa69-9b
 a41554595e.jpg
LOCATION:Théâtre 145\, 145 Cours Berriat 38000 Grenoble\, Grenoble
NAME:Racine – Humani théâtre
END:VEVENT
BEGIN:VEVENT
SUMMARY:Racine – Humani théâtre
DTSTART;TZID=Europe/Paris:20260428T200000
DTEND;TZID=Europe/Paris:20260428T220000
DTSTAMP:20260420T025212Z
UID:02f915aeb7c5f793f9f58a7c45ee376c@agendabulle.fr
DESCRIPTION:TEXTE ANNE CONTENSOU MISE EN SCÈNE MARINE ARNAULT ET FABIEN B
 ERGÈS HUMANI THÉÂTRE\n\nJeanne\, collégienne dans un petit village rur
 al\, parle très peu et cultive sa différence avec les jeunes de son âge
 . Mal dans sa peau\, elle est en conflit avec les mots\, mais aussi avec l
 es adultes. En elle bouillonne une colère sourde contre ses professeurs q
 ui veulent la faire sortir de sa coquille et contre sa famille dont elle c
 roit subir l’héritage comme une malédiction. Son seul rêve : tout qui
 tter et partir loin. Mais une découverte inattendue va bouleverser son ex
 istence. Sous forme de récit traversant les époques\, cette pièce port
 ée par une comédienne remarquable accompagnée par les chants vibrants d
 ’un musicien\, traite avec justesse de l’adolescence. Cet âge où l
 ’on questionne ses origines familiales\, culturelles et sociales\, où l
 ’on cherche qui l’on est et qui l’on voudrait être.\n\nAvec Titouan
  Billon jeu et musique\, Laure Descamps\n\nRetrouvez le spectacle Samedi 2
 6 et dimanche 27 avril – Saison culturelle «Échos\, tous au spectacle
 » tournée en Grésivaudan\n\nTournée mutualisée pour l’impact écolo
 gique et le confort des artistes.\nhttp://www.agendabulle.fr/event/2026/4/
 28/2117-racine-humani-theatre\nhttps://www.grenoble.fr/agenda/4283/45-raci
 ne-humani-theatre.htm
IMAGE;VALUE=URI:http://www.agendabulle.fr/media/8d3bd372-bbcf-47eb-9592-55
 c7cb55945c.jpg
LOCATION:Théâtre 145\, 145 Cours Berriat 38000 Grenoble\, Grenoble
NAME:Racine – Humani théâtre
END:VEVENT
END:VCALENDAR
