BEGIN:VCALENDAR
VERSION:2.0
PRODID:-//AgendaBulle//https://agendabulle.fr//
BEGIN:VEVENT
SUMMARY:Journée du lycéen
DTSTART;TZID=Europe/Paris:20270126T090000
DTEND;TZID=Europe/Paris:20270126T110000
DTSTAMP:20260422T223023Z
UID:594c125269ffa90178233a8dafe53969@agendabulle.fr
DESCRIPTION:La journée portes ouvertes de l'Université Grenoble Alpes. U
 n rendez-vous à ne pas manquer pour tous les lycéens ! Au programme en 2
 027 Des conférences et séances d’information pour découvrir les forma
 tions proposées par les différents établissements\, Des rencontres avec
  les enseignants et étudiants et l’Espace orientation insertion profess
 ionnelle UGA permettant d’échanger sur les filières\, la construction 
 du parcours et la vie universitaire\, Des visites des locaux pour s’impr
 égner de l’ambiance des campus\, Le Forum de la vie étudiante pour dé
 couvrir le dynamisme de la vie étudiante et les informations pratiques co
 ncernant le logement\, les aides sociales\, la santé ou encore les transp
 orts\, Le Forum des BTS des lycées de l’Académie de Grenoble. Le progr
 amme en ligne Tous les horaires des conférences et de rencontres Toutes l
 es informations utiles : où déjeuner sur le campus\, comment visiter les
  bibliothèques\, à qui s’adresser pour poser vos questions de bourses 
 ou de logements\, où rencontrer les associations étudiantes… Le menu "
 Favoris" pour créer votre programme personnalisé La géolocalisation des
  conférences mises en favoris pour trouver les bâtiments du campus le jo
 ur J. Se connecter au site jdl.univ-grenoble-alpes.fr (programme 2027 en c
 ours de réalisation) Retour sur "Bref\, je suis étudiant à l’UGA !" 
 Le live sur YouTube 2026 Des étudiants présenteront leur quotidien sur 
 le campus à travers échanges\, récits et témoignages autour de l’ori
 entation\, des formations\, de la vie étudiante\, de l’engagement assoc
 iatif ou encore du sport à l’UGA. Les lycéens pourront poser toutes le
 urs questions via le chat du live . Voir le replay sur YouTube YouTube es
 t désactivé. Les services multimédias permettent d'enrichir le site de 
 contenus vidéo et audio\, de PDF interactifs et d'animation. En autorisan
 t ces services tiers\, vous acceptez le dépôt et la lecture de cookies e
 t l'utilisation de technologies de suivi nécessaires à leur bon fonction
 nement. Accepter YouTube\nhttp://www.agendabulle.fr/event/2027/1/26/2426-j
 ournee-du-lyceen\nhttps://www.univ-grenoble-alpes.fr/actualites/agenda/age
 nda-formation/journee-du-lyceen-897090.kjsp
IMAGE;VALUE=URI:http://www.agendabulle.fr/media/63f178eb-51ab-45f4-ac88-32
 d4c897de6c.jpg
LOCATION:Domaine universitaire\, 621\, Avenue Centrale 38400 Saint-Martin-
 d'Hères\, Saint-Martin-d'Hères
NAME:Journée du lycéen
END:VEVENT
END:VCALENDAR
