BEGIN:VCALENDAR
VERSION:2.0
PRODID:-//AgendaBulle//https://agendabulle.fr//
BEGIN:VEVENT
SUMMARY:Les ateliers des Habiles : l'habitat participatif
DTSTART;TZID=Europe/Paris:20270112T183000
DTEND;TZID=Europe/Paris:20270112T203000
DTSTAMP:20260420T023638Z
UID:a4feecf2cc7d1a8ca2b6104595474740@agendabulle.fr
DESCRIPTION:Des ateliers pour échanger\, se rencontrer et se renseigner s
 ur l’habitat participatif. Chaque mois l'habitat participatif est abord
 é à partir d'un format et d'une thématique différente : retour d’exp
 érience de groupes en projet et/ou installés\, intervention d’expert-e
 s et de professionnel-les\, bourses aux projets\, temps de forum et d'anno
 nces\, etc. 6 Rue Berthe de Boissieux 38000 Grenoble Secteur 2 18H30/21H30
  et 17H30/21H30 pour la Bourse aux projets et l'Assemblée générale des 
 Habiles.\nhttp://www.agendabulle.fr/event/2027/1/12/2275-les-ateliers-des-
 habiles-lhabitat-participatif\nhttps://www.grenoble.fr/agenda/5064/484-les
 -ateliers-des-habiles-l-habitat-participatif.htm
IMAGE;VALUE=URI:http://www.agendabulle.fr/media/f7bb7e9a-fcbb-4bc5-a018-86
 fc9a9c0fda.jpg
LOCATION:Maison de la Vie Associative et Citoyenne\, 6 Rue Berthe de Boiss
 ieux 38000 Grenoble\, Grenoble
NAME:Les ateliers des Habiles : l'habitat participatif
END:VEVENT
END:VCALENDAR
