BEGIN:VCALENDAR
VERSION:2.0
PRODID:-//AgendaBulle//https://agendabulle.fr//
BEGIN:VEVENT
SUMMARY:Hypolepses - Continuité & contrastes (Ensemble vocal Stravaganza 
 dirigé par Yves Rassendren)
DTSTART;TZID=Europe/Paris:20260609T200000
DTEND;TZID=Europe/Paris:20260609T220000
DTSTAMP:20260421T193507Z
UID:a5c29045b68a2ded25a5b68f63f51f46@agendabulle.fr
DESCRIPTION:Hypolepses - Continuité & contrastes\n\nCe programme musical 
 fait dialoguer passé et présent\, sacré et profane et propose une mise 
 en regard de musiques du XVIe siècle avec d'autres œuvres chorales a cap
 pella des XXe & XXIe siècles.\nAu faste des polyphonies de Gabrieli répo
 nd la jubilation rythmique d’œuvres récentes\, tandis que le dépouill
 ement mystique de Poulenc fait écho\, par delà les siècles\, à l'ascé
 tisme du chant grégorien.\nLaissez-vous surprendre par des sonorités nou
 velles et inattendues !\nGabrieli\, Lassus\, Gesualdo\, Poulenc\, Machuel\
 , Vulc…\nhttp://www.agendabulle.fr/event/2026/6/9/2364-hypolepses-contin
 uite-contrastes-ensemble-vocal-stravaganza-dirige-par-yves-rassendren\nhtt
 ps://www.stravaganza.fr
IMAGE;VALUE=URI:http://www.agendabulle.fr/media/affiche_strava_juin_2026_.
 jpg
LOCATION:Notre-Dame Réconciliatrice\, 12 rue Joseph Chanrion\, Grenoble
NAME:Hypolepses - Continuité & contrastes (Ensemble vocal Stravaganza dir
 igé par Yves Rassendren)
END:VEVENT
END:VCALENDAR
