BEGIN:VCALENDAR
VERSION:2.0
PRODID:-//AgendaBulle//https://agendabulle.fr//
BEGIN:VEVENT
SUMMARY:Club lecture
DTSTART;TZID=Europe/Paris:20260605T180000
DTEND;TZID=Europe/Paris:20260605T200000
DTSTAMP:20260420T025206Z
UID:ef7f84a9c20a914aaf662c8cef98dc26@agendabulle.fr
DESCRIPTION:Une soirée de partage autour du livre\, à retrouver tous les
  mois.\n\nRomans\, polars\, essais\, bandes dessinées... Venez partager v
 os découvertes\, vos impressions\, vos conseils...\n\nPublic adulte\, en 
 entrée libre\nhttp://www.agendabulle.fr/event/2026/6/5/2110-club-lecture\
 nhttps://www.meylan.fr/agenda/1344/41-club-lecture.htm?ID_AGENDAPERIODE=35
 50
IMAGE;VALUE=URI:http://www.agendabulle.fr/media/819d1344-0159-4d74-80fa-ef
 977acab5e9.jpg
LOCATION:Bibliothèque François Gillet / Béalières\, 10 Le Routoir\, 38
 240 Meylan\, Meylan
NAME:Club lecture
END:VEVENT
END:VCALENDAR
