BEGIN:VCALENDAR
VERSION:2.0
PRODID:-//AgendaBulle//https://agendabulle.fr//
BEGIN:VEVENT
SUMMARY:Sensibilisations aux violences sexistes et sexuelles\, discriminat
 ions et harcèlements
DTSTART;TZID=Europe/Paris:20260604T100000
DTEND;TZID=Europe/Paris:20260604T120000
DTSTAMP:20260422T223021Z
UID:543ace15c5f1ffbd18b74c5f6444c728@agendabulle.fr
DESCRIPTION:L'équipe de l'UGA en charge de l'égalité propose deux sessi
 ons de sensibilisation aux violences sexistes et sexuelles\, discriminatio
 ns\, harcèlements pour le public doctorant. Comprendre les violences sexi
 stes et sexuelles\, discriminations et harcèlements Dans le cadre de ses 
 engagements en matière de prévention de toutes les formes de violences\,
  l'UGA organise une session de sensibilisation aux violences sexistes et s
 exuelles (VSS)\, discriminations et harcèlements à destination du public
  doctorant\, des enseignantes-chercheuses et enseignants-chercheurs et des
  personnels de l'UGA : jeudi 4 juin 2026 10h à 12h D'une durée de 2h\, c
 ette sensibilisation vous donnera des clés de compréhension des VSS\, di
 scriminations et harcèlements dans l'enseignement supérieur et la recher
 che. Elle vous permettra également de savoir qualifier juridiquement ces 
 formes de violences\, et savoir réagir si vous en êtes victimes ou témo
 ins. Elle sera complétée par une présentation du dispositif de signalem
 ent des actes de VSS\, discriminations et harcèlements de l'UGA. S'inscri
 re Savoir réagir face aux violences sexistes et sexuelles\, discriminatio
 ns et harcèlement dans le cadre de la thèse Cette sensibilisation sera s
 uivie d'un atelier afin d'aller plus loin sur la lutte contre les VSS\, di
 scriminations et harcèlements dans le cadre de la thèse. Ouvert uniqueme
 nt aux doctorantes et doctorants \, cet atelier de 2h permettra\, par des 
 mises en situation\, d'acquérir les bons réflexes pour savoir prévenir 
 et réagir face aux violences dans le cadre de l'encadrement doctoral. Tro
 is ateliers de 15 personnes chacun auront lieu de 14h à 16h. jeudi 4 juin
  2026 14h à 16h Il est nécessaire d'avoir assisté à la sensibilisation
  du matin pour participer aux ateliers de l'après-midi. S'inscrire Notez 
 que la participation des doctorantes et doctorants pourra être validée p
 ar des heures de formation attribuées par les heures doctorales.\nhttp://
 www.agendabulle.fr/event/2026/6/4/1487-sensibilisations-aux-violences-sexi
 stes-et-sexuelles-discriminations-et-harcelements\nhttps://www.univ-grenob
 le-alpes.fr/actualites/agenda/agenda-vie-de-campus/sensibilisations-aux-vi
 olences-sexistes-et-sexuelles-discriminations-et-harcelements-1534155.kjsp
IMAGE;VALUE=URI:http://www.agendabulle.fr/media/c26e3f60-6863-4aed-97e6-9c
 ab584d619c.jpg
LOCATION:Domaine universitaire\, 621\, Avenue Centrale 38400 Saint-Martin-
 d'Hères\, Saint-Martin-d'Hères
NAME:Sensibilisations aux violences sexistes et sexuelles\, discrimination
 s et harcèlements
END:VEVENT
END:VCALENDAR
