BEGIN:VCALENDAR
VERSION:2.0
PRODID:-//AgendaBulle//https://agendabulle.fr//
BEGIN:VEVENT
SUMMARY:Atelier parent-enfant "Cyanotype"
DTSTART;TZID=Europe/Paris:20260620T120000
DTEND;TZID=Europe/Paris:20260620T140000
DTSTAMP:20260422T224124Z
UID:72ad9d176f761727452809b3754c4624@agendabulle.fr
DESCRIPTION:L'association Horizons propose un atelier pour découvrir la t
 echnique du "cyanotype" à partager en famille !\n\nLe cyanotype est un pr
 océdé photographique simple et fascinant\, presque magique. venez tester
  et réaliser une création photographique originale en utilisant des él
 éments du jardin partagé. Chacun repartira avec sa production !\nhttp://
 www.agendabulle.fr/event/2026/6/20/2444-atelier-parent-enfant-cyanotype\nh
 ttps://www.meylan.fr/agenda/1970/41-atelier-parent-enfant-cyanotype.htm?ID
 _AGENDAPERIODE=3610
IMAGE;VALUE=URI:http://www.agendabulle.fr/media/4f78f46a-937d-4f5e-9f6c-9d
 0c2f245c7e.jpg
LOCATION:Association Horizons\, 16 rue des Aiguinards meylan\, Meylan
NAME:Atelier parent-enfant "Cyanotype"
END:VEVENT
END:VCALENDAR
