BEGIN:VCALENDAR
VERSION:2.0
PRODID:-//AgendaBulle//https://agendabulle.fr//
BEGIN:VEVENT
SUMMARY:The mixtape avec l’Usine à jazz et Stéfakoa
DTSTART;TZID=Europe/Paris:20260619T200000
DTEND;TZID=Europe/Paris:20260619T220000
DTSTAMP:20260420T025207Z
UID:eea19b901b85b50a0931f63065409af4@agendabulle.fr
DESCRIPTION:Funk jazz soul raggaConcert en plein air\n\nDes Jackson Five 
 à Snarky Puppy\, en passant par Kool and the Gang\, Sharon Jones & The Da
 ps Kings\, Gloria Estefan\, Selah Sue ou Stevie Wonder\, le Big Band greno
 blois l’Usine à Jazz et la chanteuse Stefakoa déroulent leur Mixtape\,
  compilation de quelques-uns de leurs morceaux favoris\, revisités versio
 n grand ensemble de cuivres ultra-énergétique !\n\nCoutumiers des grande
 s scènes avec leurs shows son et lumière Et j’ai crié !\, Charles B F
 unk\, Black Legends et Live In the City\, les dix-huit musiciens de l’Us
 ine à Jazz - dont 13 soufflants - et leur puissante soliste vocale vous d
 onnent rendez-vous\, pour ce concert\, en formule conviviale et terribleme
 nt efficace\, conçu spécialement pour enchanter et surtout faire danser 
 tous les publics.\n\nUne belle invitation à venir fêter l’arrivée de 
 l’été !\nhttp://www.agendabulle.fr/event/2026/6/19/2297-the-mixtape-av
 ec-lusine-a-jazz-et-stefakoa\nhttps://www.meylan.fr/agenda/1868/41-the-mix
 tape-avec-l-usine-a-jazz-et-stefakoa.htm?ID_AGENDAPERIODE=3451
IMAGE;VALUE=URI:http://www.agendabulle.fr/media/ea1a7845-4fb1-4c2d-a40c-fc
 0228491ae5.jpg
LOCATION:Maison de la musique\, 4 avenue du granier 38240 meylan\, meylan
NAME:The mixtape avec l’Usine à jazz et Stéfakoa
END:VEVENT
END:VCALENDAR
