BEGIN:VCALENDAR
VERSION:2.0
PRODID:-//Agenda Bulle//https://agendabulle.fr//
BEGIN:VEVENT
SUMMARY:Qu'est-ce qu'on fabrique ? Là où ça tient · RUSHLESS
DTSTART;TZID=Europe/Paris:20260618T193000
DTEND;TZID=Europe/Paris:20260618T213000
DTSTAMP:20260424T145632Z
UID:8a693fff33e181a955bcfc5161f1b467@agendabulle.fr
DESCRIPTION:Construire. Soutenir. Prendre soin. Collaborer.\nRalentir. Fai
 re un pas de côté.\n\n“Reconstruis avec la volonté de l’enfant” A
 rthur Teboul - Le Déversoir\n\nLà où ça tient est un duo chorégraphiq
 ue porté par Arthur Bordage et Emma Loïs (collectif RUSHLESS).\nIl s’i
 nscrit dans une volonté de ralentir\, de s’extraire d’un flux pour r
 éapprendre à fabriquer avec soin. Chaque nouvel espace devient une tenta
 tive contre la précipitation et pour l’attention\, la patience mais aus
 si la fragilité.\n\nUne tour de Kapla se construit lentement\, là où le
 s corps bâtissent un geste commun. Un geste sensible\, naïf\, aveugle. O
 bserver la chute inévitable et recommencer ensemble. Sentir où en est l
 ’autre\, l’imaginer\, sans jamais faire à sa place.\n\nComment bâtir
 \, déconstruire\, recommencer ?\nComment habiter la fragilité d’un pro
 cessus collectif\, sans chercher à la résoudre ? Comment donner à voir 
 la lenteur\, l’attention\, la chute et la reprise ?\nComment rester deux
  dans cette construction partagée quand notre environnement nous pousse 
 à nous disperser\, à aller vite\, à produire seul·es ?\nCette capsule 
 est une résistance douce\, un acte d’attention\, un espace où lenteur\
 , fragilité et jeu deviennent moteurs de création.\n\n\nCréation prévu
 e pour l’automne 2027\nEn résidence du 9 au 19.06\n\nEn savoir plus : h
 ttps://lepacifique-grenoble.com/evenements/qu-est-ce-qu-on-fabrique-la-ou-
 ca-tient\n\n-------------\nLes Qu’est-ce qu’on fabrique ? sont des sor
 ties de résidence ouvertes au public\, où les artistes vous invitent à 
 partager une étape de leur création dans le format de leur choix. Ces rd
 v gratuits se prolongent par une discussion avec les artistes.\n\n--------
 -----\nINFOS PRATIQUES : \nGratuit \nSur réservation : https://lepacifiqu
 e-grenoble.mapado.com/\n\n© Lisa Rinsoz\n\n\n\nhttps://www.agendabulle.fr
 /event/2026/6/18/2548-quest-ce-quon-fabrique-la-ou-ca-tient-rushless\nhttp
 s://www.facebook.com/events/771974982071757/
IMAGE;VALUE=URI:https://www.agendabulle.fr/media/cfd0e655-14aa-4cf2-9f8a-1
 f0da919dc60.jpg
LOCATION:Le Pacifique / Centre de développement chorégraphique national\
 , 30 Chemin des Alpins\, Grenoble
NAME:Qu'est-ce qu'on fabrique ? Là où ça tient · RUSHLESS
END:VEVENT
END:VCALENDAR
