BEGIN:VCALENDAR
VERSION:2.0
PRODID:-//AgendaBulle//https://agendabulle.fr//
BEGIN:VEVENT
SUMMARY:Multimédi'Alpes / Festival
DTSTART;TZID=Europe/Paris:20260617T190000
DTEND;TZID=Europe/Paris:20260617T210000
DTSTAMP:20260422T223022Z
UID:f8e3eb0744a109d01fa7c45a04ce9c46@agendabulle.fr
DESCRIPTION:Le festival Multimédi’Alpes a été créé par et pour les 
 étudiantes et les étudiants du BUT Métiers du Multimédia et de l’Int
 ernet. Les gagnants seront révélés et récompensés par un jury compos
 é d’enseignants et de professionnels\, parmi dix catégories en lice : 
 narration\, photo\, illustration\, développement web\, design web\, desig
 n graphique\, audiovisuel de création\, audiovisuel documentaire\, son et
  motion design. Un prix du public sera également décerné ! La soirée s
 e clôturera avec un mini concert. Retrouvez-les sur Instagram : @mmigreno
 ble et sur LinkedIn : mmi grenoble Infos pratiques : Événement gratuit\
 , sur réservation\, ouvert à toutes et tous. Réservez vos places dès m
 aintenant ! Crédits photo : ©  Thaïs Blin-Coulle\nhttp://www.agendabul
 le.fr/event/2026/6/17/2418-multimedialpes-festival\nhttps://www.univ-greno
 ble-alpes.fr/actualites/agenda/agenda-culture/multimedi-alpes-festival-174
 7783.kjsp
IMAGE;VALUE=URI:http://www.agendabulle.fr/media/47bf6f7a-f50f-4eb6-934f-bb
 bef7dea4f8.jpg
LOCATION:Amphidice\, 1316 Rue des Résidences\, Saint-Martin-d'Hères
NAME:Multimédi'Alpes / Festival
END:VEVENT
END:VCALENDAR
