BEGIN:VCALENDAR
VERSION:2.0
PRODID:-//AgendaBulle//https://agendabulle.fr//
BEGIN:VEVENT
SUMMARY:Intraduisibles et IA\, avec Barbara Cassin de l'Académie françai
 se / Conférence d'exception
DTSTART;TZID=Europe/Paris:20260610T170000
DTEND;TZID=Europe/Paris:20260610T190000
DTSTAMP:20260422T223021Z
UID:d407456bd6a6d06733948a11321ae966@agendabulle.fr
DESCRIPTION:La philosophe Barbara Cassin explore les mots qui échappent 
 à toute traduction parfaite et révèlent la singularité des langues et 
 des cultures. À la croisée des humanités classiques et numériques\, el
 le interroge le rôle de l’intelligence artificielle et ses effets sur n
 otre rapport au langage et au sens. Cette spécialiste de la rhétorique 
 reçoit en 2018 la médaille d’or du CNRS\, et est élue la même année
  membre de l’Académie française\, pour ses travaux sur la traduction e
 t les liens entre langues et pensée. Infos pratiques : Événement gratui
 t\, sur réservation\, ouvert à toutes et tous. Réservez vos places dès
  maintenant ! Crédits photo : © Sincerely Media Unsplash\nhttp://www.age
 ndabulle.fr/event/2026/6/10/2416-intraduisibles-et-ia-avec-barbara-cassin-
 de-lacademie-francaise-conference-dexception\nhttps://www.univ-grenoble-al
 pes.fr/actualites/agenda/agenda-culture/intraduisibles-et-ia-avec-barbara-
 cassin-de-l-academie-francaise-conference-d-exception-1747765.kjsp
IMAGE;VALUE=URI:http://www.agendabulle.fr/media/04f7c1fb-cbcd-470f-b3c1-33
 a9b182301a.jpg
LOCATION:Amphithéâtre Louis Weil\, Place centrale\, Saint-Martin-d'Hère
 s
NAME:Intraduisibles et IA\, avec Barbara Cassin de l'Académie française 
 / Conférence d'exception
END:VEVENT
END:VCALENDAR
