BEGIN:VCALENDAR
VERSION:2.0
PRODID:-//AgendaBulle//https://agendabulle.fr//
BEGIN:VEVENT
SUMMARY:Les ateliers des Habiles : l'habitat participatif
DTSTART;TZID=Europe/Paris:20260601T183000
DTEND;TZID=Europe/Paris:20260601T203000
DTSTAMP:20260420T023638Z
UID:005559ca9e5044e3ed99c6f1fb142cbf@agendabulle.fr
DESCRIPTION:Des ateliers pour échanger\, se rencontrer et se renseigner s
 ur l’habitat participatif. Chaque mois l'habitat participatif est abord
 é à partir d'un format et d'une thématique différente : retour d’exp
 érience de groupes en projet et/ou installés\, intervention d’expert-e
 s et de professionnel-les\, bourses aux projets\, temps de forum et d'anno
 nces\, etc. 6 Rue Berthe de Boissieux 38000 Grenoble Secteur 2 18H30/21H30
  et 17H30/21H30 pour la Bourse aux projets et l'Assemblée générale des 
 Habiles.\nhttp://www.agendabulle.fr/event/2026/6/1/2279-les-ateliers-des-h
 abiles-lhabitat-participatif\nhttps://www.grenoble.fr/agenda/5064/484-les-
 ateliers-des-habiles-l-habitat-participatif.htm
IMAGE;VALUE=URI:http://www.agendabulle.fr/media/6a26742a-e700-4724-823f-2b
 74b27f3a9a.jpg
LOCATION:Maison de la Vie Associative et Citoyenne\, 6 Rue Berthe de Boiss
 ieux 38000 Grenoble\, Grenoble
NAME:Les ateliers des Habiles : l'habitat participatif
END:VEVENT
END:VCALENDAR
