BEGIN:VCALENDAR
VERSION:2.0
PRODID:-//Agenda Bulle//https://agendabulle.fr//
BEGIN:VEVENT
SUMMARY:Pioche ta visite
DTSTART;TZID=Europe/Paris:20260509T153000
DTEND;TZID=Europe/Paris:20260509T173000
DTSTAMP:20260424T031631Z
UID:ac77e87bba85ef2c8d1a52fd255e3a42@agendabulle.fr
DESCRIPTION:Parmi une sélection de thématiques sur Stendhal\, sa vie et 
 son œuvre\, laissez le hasard des cartes vous guider… ou bien prenez la
  main ! Vous composerez ainsi\, avec les médiatrices du musée\, une vis
 ite unique et sur mesure.\nEntrée libre dans la ...\nhttps://www.agendabu
 lle.fr/event/2026/5/9/2479-pioche-ta-visite\nhttps://bm-grenoble.fr/Defaul
 t/doc/CALENDAR/3564/pioche-ta-visite
IMAGE;VALUE=URI:https://www.agendabulle.fr/media/29bdb647-5598-4117-ac7d-9
 1e57dcb6651.jpg
LOCATION:Musée Stendhal\, 20 Grande Rue 38000 Grenoble\, Grenoble
NAME:Pioche ta visite
END:VEVENT
END:VCALENDAR
