BEGIN:VCALENDAR
VERSION:2.0
PRODID:-//AgendaBulle//https://agendabulle.fr//
BEGIN:VEVENT
SUMMARY:BCTM vs Feytiat
DTSTART;TZID=Europe/Paris:20260509T200000
DTEND;TZID=Europe/Paris:20260509T220000
DTSTAMP:20260422T224122Z
UID:15c7a3575ac8ad5155ab58b0844e8302@agendabulle.fr
DESCRIPTION:Demi-finale retour des Playoffs LF2\n\nVenez vibrer au gymnase
  du Charlaix pour soutenir les Guerrières face à leurs adversaires !Coup
  d'envoi 20h.Préparez-vous pour une soirée intense où rivalité et pass
 ion se rencontrent.\n\nRéservez vos places et soyez prêts pour l’actio
 n !\nhttp://www.agendabulle.fr/event/2026/5/9/2443-bctm-vs-feytiat\nhttps:
 //www.meylan.fr/agenda/2002/41-bctm-vs-feytiat.htm?ID_AGENDAPERIODE=3660
IMAGE;VALUE=URI:http://www.agendabulle.fr/media/bc9f8d0a-ee5a-4fea-a01b-77
 038006885e.jpg
LOCATION:Gymnase du Charlaix\, 32 Chemin du Vieux Chêne\, Meylan
NAME:BCTM vs Feytiat
END:VEVENT
END:VCALENDAR
