BEGIN:VCALENDAR
VERSION:2.0
PRODID:-//AgendaBulle//https://agendabulle.fr//
BEGIN:VEVENT
SUMMARY:Casse-tête et sa pochette
DTSTART;TZID=Europe/Paris:20260509T143000
DTEND;TZID=Europe/Paris:20260509T173000
DTSTAMP:20260422T222106Z
UID:309e9d5dee3e34cc5648dd88f819b1be@agendabulle.fr
DESCRIPTION:Créez un jeu unique ensemble !    Partagez un moment créatif
  en famille en fabriquant un puzzle en bois sur le thème des animaux et s
 on sac de rangement personnalisé ! Une activité pour découvrir ensemble
  les outils du Fab Lab. Avec l'aide de nos Fab Facilitateurs\, vous utilis
 erez la découpeuse laser pour créer les pièces du puzzle\, puis la déc
 oupeuse vinyle et la machine à coudre pour personnaliser un sac pour le r
 anger.    Ce que vous allez apprendre :      Des compétences de logique e
 t d'observation (puzzle).    La coordination main-œil lors de l'assemblag
 e et de la couture.    La concentration et la patience nécessaires à la 
 réalisation.    Le fonctionnement de la découpeuse laser et de la décou
 peuse vinyle.    L'utilisation d'outils de bricolage et de couture simples
 .    À développer votre créativité en famille.    Pour qui ? Les famil
 les avec enfants de 6 à 11 ans (1 enfant + 1 parent par inscription).    
 Inscription\nhttp://www.agendabulle.fr/event/2026/5/9/2407-casse-tete-et-s
 a-pochette\nhttps://lacasemate.fr/programmation/casse-tete-et-sa-pochette/
IMAGE;VALUE=URI:http://www.agendabulle.fr/media/ca928b12-8e32-4764-922b-12
 60ff6e6222.jpg
LOCATION:La Casemate\, 2 place Saint-Laurent\, Grenoble
NAME:Casse-tête et sa pochette
END:VEVENT
END:VCALENDAR
