BEGIN:VCALENDAR
VERSION:2.0
PRODID:-//AgendaBulle//https://agendabulle.fr//
BEGIN:VEVENT
SUMMARY:Atelier des Sans Gamètes - autour des contraceptions testiculaire
 s
DTSTART;TZID=Europe/Paris:20260509T140000
DTEND;TZID=Europe/Paris:20260509T160000
DTSTAMP:20260420T131837Z
UID:f5ab5d3b887f7ce9b34575adfcc02d9b@agendabulle.fr
DESCRIPTION:Les Sans Gamètes est un collectif mixte\, désirant réfléch
 ir à la contraception dans un contexte d'inégalités des genres. Les ate
 liers sont en mixité\, car les contraceptions testiculaires sont toujours
  des contraceptions qui impliquent les deux partenaires. Il est donc impor
 tant que toute personne puisse avoir accès à l'ensemble des informations
 \, dans l'état des connaissances actuelles.\n\nLe collectif est constitu
 é de personnes qui ne sont ni des soignant·e·s\, ni des scientifiques\,
  ni des couturier·ère·s\, mais des usager·ère·s averti·e·s. Ces é
 changes seront le temps de partages d’expériences\, de références th
 éoriques et de contacts compétents\, pour permettre à chaque personne i
 ntéressée de trouver des ressources et d'avancer de manière éclairée.
 \n\nLe collectif des "Sans Gamètes" vous propose un atelier à prix libre
  et ouvert à tou·te·s\, tous les deuxièmes samedi du mois à 14h à la
  MDH Abbaye Jouhaux de Grenoble.  Au cours de ces ateliers\, les membres 
 du collectif vous proposent un atelier de discussion autour des contracept
 ions testiculaires (il est en effet possible de se contracepter même si l
 'on est né.e avec un pénis et des testicules)\, ainsi qu'un atelier en p
 arallèle de couture pour réaliser des sous-vêtements contraceptifs/jock
 straps\, ou encore la fabrication d'anneaux contraceptifs en silicone.\n\n
 Insta : https://www.instagram.com/sans.gametes\n\nPage Facebook: https://w
 ww.facebook.com/people/Les-Sans-Gam%C3%A8tes/100082626195002/\n\nCarte de 
 la contraception testiculaire en France: http://u.osmfr.org/m/1197497/\nht
 tp://www.agendabulle.fr/event/2026/5/9/2313-atelier-des-sans-gametes-autou
 r-des-contraceptions-testiculaires\nhttps://www.le-tamis.info/evenement/at
 elier-des-sans-gametes-autour-des-contracepti-1
LOCATION:Maison des Habitant-es Abbaye\, 1 Place de la Commune de 1871 381
 00 Grenoble\, Grenoble
NAME:Atelier des Sans Gamètes - autour des contraceptions testiculaires
END:VEVENT
END:VCALENDAR
