BEGIN:VCALENDAR
VERSION:2.0
PRODID:-//Agenda Bulle//https://agendabulle.fr//
BEGIN:VEVENT
SUMMARY:Permanence du Hackerspace de Grenoble
DTSTART;TZID=Europe/Paris:20260507T183000
DTEND;TZID=Europe/Paris:20260507T203000
DTSTAMP:20260426T031905Z
UID:8cfe904c091385b54539369506ca1fc5@agendabulle.fr
DESCRIPTION:Le Hackerspace de Grenoble propose une permanence.\n\nLe Hacke
 rspace de Grenoble est un tier-lieu\, un atelier autogéré et un laborato
 ire ouvert dédié à la promotion des arts\, de l'expérimentation\, l'in
 formatique et la cybersécurité.\n\nL'association offre un espace de renc
 ontre et de travail avec des outils mis en commun pour apprendre\, bricole
 r\, collaborer\, détourner ensemble.\n\nL'association ce retrouve tout le
 s jeudi soirs à partir de 18h30 pour des ateliers thématiques et les per
 manences.\n\nÀ partir de 18h30\n\nAu 17 Rue du pré ruffier 38400 ST-MART
 IN-D'HERES\n\nPlus d'infos ici\nhttps://www.agendabulle.fr/event/2026/5/7/
 2575-permanence-du-hackerspace-de-grenoble\nhttps://www.le-tamis.info/even
 ement/permanence-du-hackerspace-de-grenoble
LOCATION:/!\\ à vérifier sur la page source /!\\\, Grenoble
NAME:Permanence du Hackerspace de Grenoble
END:VEVENT
END:VCALENDAR
