BEGIN:VCALENDAR
VERSION:2.0
PRODID:-//Agenda Bulle//https://agendabulle.fr//
BEGIN:VEVENT
SUMMARY:COMPLET • Jérémy Frerot à La Belle Électrique
DTSTART;TZID=Europe/Paris:20260507T200000
DTEND;TZID=Europe/Paris:20260507T220000
DTSTAMP:20260425T031614Z
UID:db84b49219fa7efec306a317be16010c@agendabulle.fr
DESCRIPTION:⚠️ 𝗥𝗘𝗣𝗢𝗥𝗧 𝗗𝗘 𝗟𝗔 𝗗𝗔𝗧
 𝗘 𝗔𝗨 𝟬𝟳 𝗠𝗔𝗜 𝟮𝟬𝟮𝟲\n\n"Nous vous informo
 ns que le concert de Jérémy Frerot\, initialement prévu le 30 janvier 2
 026 à La Belle Électrique à Grenoble\, est reporté au jeudi 7 mai 2026
  dans la même salle.\nPour des raisons de logistique et de calendrier\, c
 e report était malheureusement nécessaire. Nous sommes désolés pour la
  gêne occasionnée et nous vous remercions de votre compréhension." L'é
 quipe W Live\n\nVos billets restent valables en l’état pour la date de 
 report sans que vous n’ayez aucune démarche à effectuer. Toutefois\, s
 i vous ne pouviez assister au concert à la date de report\, vous pouvez a
 dresser une demande de remboursement jusqu'au 20 novembre via ce formulair
 e ➡️ https://billetterie.la-belle-electrique.com?sonic_to=refund&event
 _id=596\n\n\n\n• 𝗝É𝗥É𝗠𝗬 𝗙𝗥𝗘𝗥𝗢𝗧\n\nRêveu
 r éveillé\, Jérémy Frerot aime les utopies\, les idées en puissance e
 t leur accomplissement. Sincère et émouvante\, sa musique est le fruit d
 ’une quête d’équilibre et une démarche créatrice libre d’artific
 e. Mélancolie et autodérision s’y croisent en apesanteur dans un contr
 epoint foisonnant. A une époque où la musique se fait de plus en plus à
  l’aide de logiciels\, rendant accessoire la présence des instrumentist
 es\, Jérémy Frerot fait partie d’une nouvelle scène de musiciens fran
 çais capables de naviguer dans l’électro et la synth-pop autant qu’a
 u fil d’une orchestration épurée et de sons organiques\, qui donnent l
 a sensation réjouissante d’écouter de la musique live.\n\nAprès avoir
  connu six années de succès au sein du duo star Frero Delavega\, en 2017
  Jérémy Frerot a pris son envol en solo et est parvenu à s’imposer av
 ec un premier album\, Matriochka (2018)\, suivi de Meilleure vie (2021)\, 
 certifiés disques d’or\, et de chansons abordant des thèmes sensibles\
 , tels que l’écologie et le respect de l’océan\, une passion pour ce
 t artiste qui vit au bord de l’Atlantique. Depuis\, il égrène les succ
 ès avec la régularité d’un métronome.\n\nDurant deux années\, loin 
 des ondes et des salles de concert\, il a pris le temps de réfléchir à 
 sa vie\, de faire des choix importants et de laisser sa plume courir.\n\n
 🔊 https://youtu.be/TKK49k51ZAQ\n--------------------------\n\n🔸 En s
 avoir plus : https://www.la-belle-electrique.com/fr/agenda/jeremy-frerot\n
 \n🎫 Billetterie : https://reelax-tickets.com/e/n/jeremy-frerot-la-belle
 -electrique\n\n© Thomas Lodin\n\n\n▬▬▬▬ LE LIEU DE VIE EN BREF 
 ▬▬▬▬\n\n• 🕑 Du mercredi au samedi de 10h à 01h\, mais égale
 ment les autres jours à partir de 18h si un concert est programmé.\n\n
 • 📅 La programmation du bar ce sont : des concerts\, des Djs sets\, d
 es expositions...!\n\n• 🍔 🍷 En soirée pour vos apéros\, l'équip
 e du bar vous propose sa carte de bières locales et cocktails ainsi que d
 es appetizers à déguster sur place. Profitez-en !\n\n▬▬▬▬▬\n
 ✓ OUVERTURE des portes à 19h\, début du concert à 20h.\n✓ TRANSPORT
 S EN COMMUN : tramway A ou bus C5 arrêt “Berriat - Le Magasin”. / Tra
 in : Depuis la Gare de Grenoble\, tramway A en direction de “Fontaine La
  Poya”.\n✓ VÉLO : 300 arceaux disponibles.\n✓ VOITURE : Parking rel
 ais Vallier Catane ➣ https://bit.ly/3eM8vff / Square des Fusillés / Pro
 che rue Ampère\n✓ Questions billetterie : accueil.billetterie@la-belle-
 electrique.com\n✓ Horaires accueil billetterie : du mercredi au vendredi
  de 16h à 18h.\nhttps://www.agendabulle.fr/event/2026/5/7/2557-complet-je
 remy-frerot-a-la-belle-electrique\nhttps://www.facebook.com/events/6805982
 88194782/
IMAGE;VALUE=URI:https://www.agendabulle.fr/media/836b12cb-615f-49f9-9c70-d
 58af2c60b40.jpg
LOCATION:La belle electrique\, 12 esplanade Andry Farcy\, Grenoble
NAME:COMPLET • Jérémy Frerot à La Belle Électrique
END:VEVENT
END:VCALENDAR
