BEGIN:VCALENDAR
VERSION:2.0
PRODID:-//Agenda Bulle//https://agendabulle.fr//
BEGIN:VEVENT
SUMMARY:Club ados Mafalda
DTSTART;TZID=Europe/Paris:20260507T173000
DTEND;TZID=Europe/Paris:20260507T193000
DTSTAMP:20260424T031631Z
UID:4dcc50defce039ad91a93a5481060377@agendabulle.fr
DESCRIPTION:Coups de cœur et découvertes.Venez découvrir et faire déco
 uvrir romans\, BD\, mangas\, films\, musiques.À partir du CM2.\nhttps://w
 ww.agendabulle.fr/event/2026/5/7/2478-club-ados-mafalda\nhttps://bm-grenob
 le.fr/Default/doc/CALENDAR/1721/club-ados-mafalda
IMAGE;VALUE=URI:https://www.agendabulle.fr/media/1b5a8019-6c75-4cfb-8b57-2
 83282e06530.jpg
LOCATION:Bibliothèque Mafalda\, 1 Pl. de Gordes\, 38000 Grenoble\, Grenob
 le
NAME:Club ados Mafalda
END:VEVENT
END:VCALENDAR
