BEGIN:VCALENDAR
VERSION:2.0
PRODID:-//Agenda Bulle//https://agendabulle.fr//
BEGIN:VEVENT
SUMMARY:Club de conversation en français
DTSTART;TZID=Europe/Paris:20260507T170000
DTEND;TZID=Europe/Paris:20260507T190000
DTSTAMP:20260424T031631Z
UID:6741f9fc68f13c6524a2d35b568ecfc3@agendabulle.fr
DESCRIPTION:Vous voulez pratiquer votre français ? Vous vous intéressez 
 à la vie culturelle locale ? Nous vous attendons à la bibliothèque inte
 rnationale pour un moment d'échange convivial.Tous les jeudis à 17h\, ho
 rs vacances scolaires.\nhttps://www.agendabulle.fr/event/2026/5/7/2477-clu
 b-de-conversation-en-francais\nhttps://bm-grenoble.fr/Default/doc/CALENDAR
 /2464/club-de-conversation-en-francais
IMAGE;VALUE=URI:https://www.agendabulle.fr/media/9b658800-f2bf-49e4-b024-0
 be902b5e243.jpg
LOCATION:Bibliothèque municipale internationale\, 6 Pl. de Sfax\, 38000 G
 renoble\, Grenoble
NAME:Club de conversation en français
END:VEVENT
END:VCALENDAR
