BEGIN:VCALENDAR
VERSION:2.0
PRODID:-//AgendaBulle//https://agendabulle.fr//
BEGIN:VEVENT
SUMMARY:Mini Klub avec RTL3 - Open Air Sessions 
DTSTART;TZID=Europe/Paris:20260507T180000
DTEND;TZID=Europe/Paris:20260507T200000
DTSTAMP:20260422T220541Z
UID:5ec1686ef69c25b55e8096ab14059630@agendabulle.fr
DESCRIPTION:Une fois par mois\, RTL3 prend ses platines et vient s'install
 er dans la cour pour une soirée Mini Klub.\n\n\nRTL3 (la Radio Toujours L
 ibre)\, c'est une web radio dont le studio est installé au premier étage
  du Minimistan. Et une fois par mois ça déborde dehors : ça joue en ope
 n air\, en fin de journée\, quand la lumière baisse et que la cour comme
 nce à vivre autrement. Un moment simple\, sans pression\, où on peut pas
 ser\, rester\, écouter\, danser\, traîner.\n\n\nMusicalement\, RTL3\, ne
  suit pas une ligne droite : ça passe par la funk\, ma disco\, le techno\
 , le UK garage... ça circule librement\, selon les envies et l'énergie d
 u moment. \n\n\n📅  Jeudi 7 mai \n🕐 18h - minuit \n🎟️ Entrée li
 bre et gratuite \nhttp://www.agendabulle.fr/event/2026/5/7/2377-mini-klub-
 avec-rtl3-open-air-sessions\nhttps://www.facebook.com/events/7462987185710
 29/
IMAGE;VALUE=URI:http://www.agendabulle.fr/media/33585f82-52da-4bcc-b1fc-1e
 0f2b65169a.jpg
LOCATION:Minimistan\, 1 rue des minimes\, grenoble
NAME:Mini Klub avec RTL3 - Open Air Sessions 
END:VEVENT
END:VCALENDAR
