BEGIN:VCALENDAR
VERSION:2.0
PRODID:-//AgendaBulle//https://agendabulle.fr//
BEGIN:VEVENT
SUMMARY:BONHOMME[s]
DTSTART;TZID=Europe/Paris:20260507T193000
DTEND;TZID=Europe/Paris:20260507T213000
DTSTAMP:20260420T131837Z
UID:6ceae25b649d07ee64f521a399d2cd68@agendabulle.fr
DESCRIPTION:Jonglage\, musique live\, clown et acro-danse\n\nBonhomme[s] e
 st un duo qui questionne avec douceur et subtilité nos identités masculi
 nes et le lien qu’elle entretiennent avec notre environnement au sens la
 rge.\nhttp://www.agendabulle.fr/event/2026/5/7/2326-bonhommes\nhttps://www
 .le-tamis.info/evenement/bonhommes
LOCATION:L'ilyade Seyssinet-Pariset\, 32 Rue de la Fauconnière\, 38170 Se
 yssinet-Pariset\, Seyssinet-Pariset
NAME:BONHOMME[s]
END:VEVENT
END:VCALENDAR
