BEGIN:VCALENDAR
VERSION:2.0
PRODID:-//AgendaBulle//https://agendabulle.fr//
BEGIN:VEVENT
SUMMARY:La Crème 🍦💚
DTSTART;TZID=Europe/Paris:20260507T200000
DTEND;TZID=Europe/Paris:20260508T234500
DTSTAMP:20260420T023211Z
UID:b801543531743495b09a4b870314cc51@agendabulle.fr
DESCRIPTION:La Crème (de la crème) débarque à l'Ampérage ! 🍦💚\n
 \nLa team de l'Ampérage vous donne rendez-vous le jeudi 07 Mai (veille de
  jour férié) pour une soirée 100% Locale et festive de avec une proposi
 tion ultra diversifiée à l’image de la scène musicale et artistique d
 e G-ville ! 🏔️\n\nPour leur soirée\, les bénévoles de l'Ampérage 
 vous proposent la crème de la crème de la scène grenobloise dans sa div
 ersité. Au programme : groupes locaux\, performances\, DJ sets et des tac
 os pour une soirée unique ! 💥\n\nLe déroulé des festivités : \n🌇
  Dès 20h : Retrouvez EN EXCLUSIVITÉ des DJ sets sur notre terrasse exté
 rieure au coucher du soleil. En prime\, un service de restauration à l’
 image de cette culture culinaire dont nous sommes si fiers : j’ai nommé
  les TACOS (grenoblois). \n🌮 Ils seront confectionnés maison avec amou
 r à prix doux pendant tout le début de soirée.\n\n🌙 Ensuite : Ça se
  passe dans la grande salle avec Concerts\, Drag Shows\, Performances et D
 J Sets jusqu'au bout de la nuit ! 💃🕺\n\n🎨 Le bonus : Une décorat
 ion aux petits oignons et des projections vidéos originales pour s’assu
 rer que l’expérience à La Crème soit complète et immersive.\n\nAlors
  n’attendez plus ! \nLa billetterie est d’ores et déjà disponible av
 ec les tarifs Solidaire\, Normal et Soutien pour ceux qui peuvent se le pe
 rmettre. 🎟️ 💰 Tarifs prévente : 5 / 7 / 9 € 💰 \nTarifs sur p
 lace : 6 / 8 / 10 €\nBilletterie : https://shotgun.live/events/tacos-par
 ty\n\nOn a déjà trop hâte de vous y voir !! ❤️🎉\n\n\nINFOS : \nL
 'Ampérage\nSalle de spectacle et lieu de coopération culturelle\n163 Cou
 rs Berriat\, 38000 Grenoble\n\ninstagram.com/amperagegrenoble\nwww.amperag
 e.fr\n\nL’Ampérage est un lieu de fête\, de culture et de rencontres o
 ù aucun comportement déplacé ou discriminant n’est toléré.\n\n-Merc
 i de rester respectueux et silencieux aux abords de l’établissement.\n-
 Entrée interdite aux mineurs de moins de 16 ans non-accompagnés de leur 
 responsable légal.\n-La direction de l'Ampérage et son équipe se réser
 vent le droit d'entrée.\n\nhttp://www.agendabulle.fr/event/2026/5/7/2266-
 la-creme\nhttps://www.facebook.com/events/1506526064225610/
IMAGE;VALUE=URI:http://www.agendabulle.fr/media/66d405d0-2202-4c67-a44d-14
 a131d40145.jpg
LOCATION:L'Ampérage\, 163 Cours Berriat\, 38000\, Grenoble\, Grenoble
NAME:La Crème 🍦💚
END:VEVENT
END:VCALENDAR
