BEGIN:VCALENDAR
VERSION:2.0
PRODID:-//AgendaBulle//https://agendabulle.fr//
BEGIN:VEVENT
SUMMARY:ERA ORA ⌜transe méridionale Sicile\, Corse⌟ 
DTSTART;TZID=Europe/Paris:20260507T203000
DTEND;TZID=Europe/Paris:20260507T223000
DTSTAMP:20260420T022321Z
UID:4e17b20c0668caa5c6791ffc48e05f74@agendabulle.fr
DESCRIPTION:ERA ORA c’est un voyage au pays des persiennes closes\, là 
 où le soleil fait fondre la pierre et où le vent couche les oliviers\, l
 à où le silence des hommes laisse s’exprimer la nature et où l’on l
 it dans les yeux comme dans les livres.\n\nLà où les fruits donnent de l
 ’huile et du vin\, là où le maquis\, la terre et la mer parfument nos 
 souvenirs et les rendent éternels...\n\n⤷ Pour les yeux : https://www.y
 outube.com/watch?v=kS0Ihbveexs et https://www.youtube.com/watch?v=J-3trnIy
 378\n\n▸▹▸▹ Concert à prix libre ◃◂◃◂\n\nPour permettre 
 à tout le monde d'y assister ! Mais sans ta participation\, les artistes 
 ne seront pas payés pour leur travail. Alors\, n'oublies pas de prendre u
 n peu de monnaie <3\nhttp://www.agendabulle.fr/event/2026/5/7/2218-era-ora
 -transe-meridionale-sicile-corse\nhttps://www.facebook.com/events/19041929
 46749228/
LOCATION:Trankilou\, 45 Bd Joseph Vallier\, Grenoble
NAME:ERA ORA ⌜transe méridionale Sicile\, Corse⌟ 
END:VEVENT
END:VCALENDAR
