BEGIN:VCALENDAR
VERSION:2.0
PRODID:-//Agenda Bulle//https://agendabulle.fr//
BEGIN:VEVENT
SUMMARY:Viens écrire avec nous !
DTSTART;TZID=Europe/Paris:20260506T160000
DTEND;TZID=Europe/Paris:20260506T180000
DTSTAMP:20260424T031631Z
UID:3ecfceb3b2f65f6cafc7fa463df2be24@agendabulle.fr
DESCRIPTION:Tu aimes écrire des histoires mais tu trouves ça un peu soli
 taire ? Tu veux partager ce temps avec d'autres aspirants écrivains ? Rej
 oins-nous pour un atelier d'écriture ! Nous pourrons écrire ensemble\, 
 échanger des idées et lire à voix haute (seulem...\nhttps://www.agendab
 ulle.fr/event/2026/5/6/2476-viens-ecrire-avec-nous\nhttps://bm-grenoble.fr
 /Default/doc/CALENDAR/2966/viens-ecrire-avec-nous
IMAGE;VALUE=URI:https://www.agendabulle.fr/media/1605f034-05cf-4104-bf5e-2
 49fe0d47568.jpg
LOCATION:/!\\ à vérifier sur la page source /!\\\, Grenoble
NAME:Viens écrire avec nous !
END:VEVENT
END:VCALENDAR
