BEGIN:VCALENDAR
VERSION:2.0
PRODID:-//Agenda Bulle//https://agendabulle.fr//
BEGIN:VEVENT
SUMMARY:Temps des histoires Les Munitionnettes
DTSTART;TZID=Europe/Paris:20260506T160000
DTEND;TZID=Europe/Paris:20260506T180000
DTSTAMP:20260424T031631Z
UID:cef5d52db695c1e5db180060cda2d61b@agendabulle.fr
DESCRIPTION:Un moment d'histoires et de comptines à écouter\, confortabl
 ement installé dans la bibliothèque.\nhttps://www.agendabulle.fr/event/2
 026/5/6/2475-temps-des-histoires-les-munitionnettes\nhttps://bm-grenoble.f
 r/Default/doc/CALENDAR/2122/temps-des-histoires-les-munitionnettes
IMAGE;VALUE=URI:https://www.agendabulle.fr/media/d1122613-1453-4a34-b340-f
 fc02dde13e1.jpg
LOCATION:Bibliothèque Les Munitionnettes\, 90 Rue de Stalingrad\, 38100 G
 renoble\, Grenoble
NAME:Temps des histoires Les Munitionnettes
END:VEVENT
END:VCALENDAR
